BEGIN:VCALENDAR
PRODID:-//gdesolutions.com//MV Framework 1.0.0.1607 Calendar//EN
VERSION:2.0
METHOD:PUBLISH
CALSCALE:GREGORIAN
BEGIN:VEVENT
UID:g97a0@games.golnetwork.com
LOCATION:Cherry Beach East 2
CREATED:20160707T182607Z
DTSTART:20160914T010000Z
DTEND:20160914T020000Z
DTSTAMP:20260422T145723Z
SUMMARY:Little Kickers FC vs. Berocelona FC
DESCRIPTION:Berocelona FC vs. Little Kickers FCPlus d'info : #460
X-ALT-DESC;FMTTYPE=text/html:<!DOCTYPE HTML PUBLIC "-//W3C//DTD HTML 3.2//E
	N">\n<HTML>\n<HEAD>\n<TITLE></TITLE>\n</HEAD>\n<BODY>\n<h3>Berocelona FC vs
	. Little Kickers FC</h3>Plus d'info : <a href="https://www.golnetwork.com/g
	ame/v/90261/">#460</a>\n\n</BODY>\n</HTML>
STATUS:CONFIRMED
CLASS:PUBLIC
URL:https://www.golnetwork.com/game/v/90261/
X-MICROSOFT-CDO-BUSYSTATUS:BUSY
X-MICROSOFT-CDO-IMPORTANCE:1
END:VEVENT
BEGIN:VEVENT
UID:g979p@games.golnetwork.com
LOCATION:Cherry Beach East 2
CREATED:20160707T182607Z
DTSTART:20160907T020000Z
DTEND:20160907T030000Z
DTSTAMP:20260422T145723Z
SUMMARY:Little Kickers FC vs. FC Habanero
DESCRIPTION:FC Habanero vs. Little Kickers FCPlus d'info : #393
X-ALT-DESC;FMTTYPE=text/html:<!DOCTYPE HTML PUBLIC "-//W3C//DTD HTML 3.2//E
	N">\n<HTML>\n<HEAD>\n<TITLE></TITLE>\n</HEAD>\n<BODY>\n<h3>FC Habanero vs. 
	Little Kickers FC</h3>Plus d'info : <a href="https://www.golnetwork.com/gam
	e/v/90260/">#393</a>\n\n</BODY>\n</HTML>
STATUS:CONFIRMED
CLASS:PUBLIC
URL:https://www.golnetwork.com/game/v/90260/
X-MICROSOFT-CDO-BUSYSTATUS:BUSY
X-MICROSOFT-CDO-IMPORTANCE:1
END:VEVENT
END:VCALENDAR
