BEGIN:VCALENDAR
PRODID:-//gdesolutions.com//MV Framework 1.0.0.1607 Calendar//EN
VERSION:2.0
METHOD:PUBLISH
CALSCALE:GREGORIAN
BEGIN:VEVENT
UID:g8p0d@games.golnetwork.com
LOCATION:Nelson Mandela Field 2
CREATED:20160425T175126Z
DTSTART:20160614T223000Z
DTEND:20160614T233000Z
DTSTAMP:20260421T052353Z
SUMMARY:Shut Your Legs or I'll Meg Ya vs. Black & Drunken Samba
DESCRIPTION:Black & Drunken Samba vs. Shut Your Legs or I'll Meg YaPlus d'i
	nfo : #73
X-ALT-DESC;FMTTYPE=text/html:<!DOCTYPE HTML PUBLIC "-//W3C//DTD HTML 3.2//E
	N">\n<HTML>\n<HEAD>\n<TITLE></TITLE>\n</HEAD>\n<BODY>\n<h3>Black & Drunken 
	Samba vs. Shut Your Legs or I'll Meg Ya</h3>Plus d'info : <a href="https://
	www.golnetwork.com/game/v/86852/">#73</a>\n\n</BODY>\n</HTML>
STATUS:CONFIRMED
CLASS:PUBLIC
URL:https://www.golnetwork.com/game/v/86852/
X-MICROSOFT-CDO-BUSYSTATUS:BUSY
X-MICROSOFT-CDO-IMPORTANCE:1
END:VEVENT
BEGIN:VEVENT
UID:g8p03@games.golnetwork.com
LOCATION:Nelson Mandela Field 2
CREATED:20160425T175126Z
DTSTART:20160607T233000Z
DTEND:20160608T003000Z
DTSTAMP:20260421T052353Z
SUMMARY:Black & Drunken Samba vs. Ball SO Hard
DESCRIPTION:Ball SO Hard vs. Black & Drunken SambaPlus d'info : #69
X-ALT-DESC;FMTTYPE=text/html:<!DOCTYPE HTML PUBLIC "-//W3C//DTD HTML 3.2//E
	N">\n<HTML>\n<HEAD>\n<TITLE></TITLE>\n</HEAD>\n<BODY>\n<h3>Ball SO Hard vs.
	 Black & Drunken Samba</h3>Plus d'info : <a href="https://www.golnetwork.co
	m/game/v/86847/">#69</a>\n\n</BODY>\n</HTML>
STATUS:CONFIRMED
CLASS:PUBLIC
URL:https://www.golnetwork.com/game/v/86847/
X-MICROSOFT-CDO-BUSYSTATUS:BUSY
X-MICROSOFT-CDO-IMPORTANCE:1
END:VEVENT
BEGIN:VEVENT
UID:g8oqo@games.golnetwork.com
LOCATION:Nelson Mandela Field 2
CREATED:20160425T175126Z
DTSTART:20160531T223000Z
DTEND:20160531T233000Z
DTSTAMP:20260421T052353Z
SUMMARY:Black & Drunken Samba vs. Drinkalots FC
DESCRIPTION:Drinkalots FC vs. Black & Drunken SambaPlus d'info : #58
X-ALT-DESC;FMTTYPE=text/html:<!DOCTYPE HTML PUBLIC "-//W3C//DTD HTML 3.2//E
	N">\n<HTML>\n<HEAD>\n<TITLE></TITLE>\n</HEAD>\n<BODY>\n<h3>Drinkalots FC vs
	. Black & Drunken Samba</h3>Plus d'info : <a href="https://www.golnetwork.c
	om/game/v/86844/">#58</a>\n\n</BODY>\n</HTML>
STATUS:CONFIRMED
CLASS:PUBLIC
URL:https://www.golnetwork.com/game/v/86844/
X-MICROSOFT-CDO-BUSYSTATUS:BUSY
X-MICROSOFT-CDO-IMPORTANCE:1
END:VEVENT
BEGIN:VEVENT
UID:g8oqi@games.golnetwork.com
LOCATION:Nelson Mandela Field 1
CREATED:20160425T175126Z
DTSTART:20160524T233000Z
DTEND:20160525T003000Z
DTSTAMP:20260421T052353Z
SUMMARY:Black & Drunken Samba vs. abe froman and the blue coalition to save
	 ferris
DESCRIPTION:abe froman and the blue coalition to save ferris vs. Black & Dr
	unken SambaPlus d'info : #50
X-ALT-DESC;FMTTYPE=text/html:<!DOCTYPE HTML PUBLIC "-//W3C//DTD HTML 3.2//E
	N">\n<HTML>\n<HEAD>\n<TITLE></TITLE>\n</HEAD>\n<BODY>\n<h3>abe froman and t
	he blue coalition to save ferris vs. Black & Drunken Samba</h3>Plus d'info 
	: <a href="https://www.golnetwork.com/game/v/86841/">#50</a>\n\n</BODY>\n</
	HTML>
STATUS:CONFIRMED
CLASS:PUBLIC
URL:https://www.golnetwork.com/game/v/86841/
X-MICROSOFT-CDO-BUSYSTATUS:BUSY
X-MICROSOFT-CDO-IMPORTANCE:1
END:VEVENT
BEGIN:VEVENT
UID:g8oqc@games.golnetwork.com
LOCATION:Nelson Mandela Field 2
CREATED:20160425T175126Z
DTSTART:20160517T233000Z
DTEND:20160518T003000Z
DTSTAMP:20260421T052353Z
SUMMARY:Black & Drunken Samba vs. NPOS FC
DESCRIPTION:NPOS FC vs. Black & Drunken SambaPlus d'info : #42
X-ALT-DESC;FMTTYPE=text/html:<!DOCTYPE HTML PUBLIC "-//W3C//DTD HTML 3.2//E
	N">\n<HTML>\n<HEAD>\n<TITLE></TITLE>\n</HEAD>\n<BODY>\n<h3>NPOS FC vs. Blac
	k & Drunken Samba</h3>Plus d'info : <a href="https://www.golnetwork.com/gam
	e/v/86838/">#42</a>\n\n</BODY>\n</HTML>
STATUS:CONFIRMED
CLASS:PUBLIC
URL:https://www.golnetwork.com/game/v/86838/
X-MICROSOFT-CDO-BUSYSTATUS:BUSY
X-MICROSOFT-CDO-IMPORTANCE:1
END:VEVENT
BEGIN:VEVENT
UID:g8oq4@games.golnetwork.com
LOCATION:Nelson Mandela Field 1
CREATED:20160425T175126Z
DTSTART:20160510T223000Z
DTEND:20160510T233000Z
DTSTAMP:20260421T052353Z
SUMMARY:XTSC Bravehearts vs. Black & Drunken Samba
DESCRIPTION:Black & Drunken Samba vs. XTSC BraveheartsPlus d'info : #30
X-ALT-DESC;FMTTYPE=text/html:<!DOCTYPE HTML PUBLIC "-//W3C//DTD HTML 3.2//E
	N">\n<HTML>\n<HEAD>\n<TITLE></TITLE>\n</HEAD>\n<BODY>\n<h3>Black & Drunken 
	Samba vs. XTSC Bravehearts</h3>Plus d'info : <a href="https://www.golnetwor
	k.com/game/v/86834/">#30</a>\n\n</BODY>\n</HTML>
STATUS:CONFIRMED
CLASS:PUBLIC
URL:https://www.golnetwork.com/game/v/86834/
X-MICROSOFT-CDO-BUSYSTATUS:BUSY
X-MICROSOFT-CDO-IMPORTANCE:1
END:VEVENT
BEGIN:VEVENT
UID:g8opl@games.golnetwork.com
LOCATION:Nelson Mandela Field 1
CREATED:20160425T175126Z
DTSTART:20160503T233000Z
DTEND:20160504T003000Z
DTSTAMP:20260421T052353Z
SUMMARY:XTSC Heart Breakers  vs. Black & Drunken Samba
DESCRIPTION:Black & Drunken Samba vs. XTSC Heart Breakers Plus d'info : #23
X-ALT-DESC;FMTTYPE=text/html:<!DOCTYPE HTML PUBLIC "-//W3C//DTD HTML 3.2//E
	N">\n<HTML>\n<HEAD>\n<TITLE></TITLE>\n</HEAD>\n<BODY>\n<h3>Black & Drunken 
	Samba vs. XTSC Heart Breakers </h3>Plus d'info : <a href="https://www.golne
	twork.com/game/v/86829/">#23</a>\n\n</BODY>\n</HTML>
STATUS:CONFIRMED
CLASS:PUBLIC
URL:https://www.golnetwork.com/game/v/86829/
X-MICROSOFT-CDO-BUSYSTATUS:BUSY
X-MICROSOFT-CDO-IMPORTANCE:1
END:VEVENT
END:VCALENDAR
