BEGIN:VCALENDAR
PRODID:-//gdesolutions.com//MV Framework 1.0.0.1607 Calendar//EN
VERSION:2.0
METHOD:PUBLISH
CALSCALE:GREGORIAN
BEGIN:VEVENT
UID:gapo9@games.golnetwork.com
LOCATION:Molson Stadium
GEO:45.10662;-94.578209
CREATED:20170522T162156Z
DTSTART:20170531T211500Z
DTEND:20170531T215900Z
DTSTAMP:20260420T004514Z
SUMMARY:WAVE FC vs. e-LEMON-ators
DESCRIPTION:e-LEMON-ators vs. WAVE FCPlus d'info : #114
X-ALT-DESC;FMTTYPE=text/html:<!DOCTYPE HTML PUBLIC "-//W3C//DTD HTML 3.2//E
	N">\n<HTML>\n<HEAD>\n<TITLE></TITLE>\n</HEAD>\n<BODY>\n<h3>e-LEMON-ators vs
	. WAVE FC</h3>Plus d'info : <a href="https://www.golnetwork.com/game/v/1068
	57/">#114</a>\n\n</BODY>\n</HTML>
STATUS:RESCHEDULED
CLASS:PUBLIC
URL:https://www.golnetwork.com/game/v/106857/
X-MICROSOFT-CDO-BUSYSTATUS:BUSY
X-MICROSOFT-CDO-IMPORTANCE:1
END:VEVENT
BEGIN:VEVENT
UID:gapoh@games.golnetwork.com
LOCATION:Molson Stadium
GEO:45.10662;-94.578209
CREATED:20170522T162156Z
DTSTART:20170531T211500Z
DTEND:20170531T215900Z
DTSTAMP:20260420T004514Z
SUMMARY:e-LEMON-ators vs. Batman Returns
DESCRIPTION:Batman Returns vs. e-LEMON-atorsPlus d'info : #113
X-ALT-DESC;FMTTYPE=text/html:<!DOCTYPE HTML PUBLIC "-//W3C//DTD HTML 3.2//E
	N">\n<HTML>\n<HEAD>\n<TITLE></TITLE>\n</HEAD>\n<BODY>\n<h3>Batman Returns v
	s. e-LEMON-ators</h3>Plus d'info : <a href="https://www.golnetwork.com/game
	/v/106861/">#113</a>\n\n</BODY>\n</HTML>
STATUS:CONFIRMED
CLASS:PUBLIC
URL:https://www.golnetwork.com/game/v/106861/
X-MICROSOFT-CDO-BUSYSTATUS:BUSY
X-MICROSOFT-CDO-IMPORTANCE:1
END:VEVENT
BEGIN:VEVENT
UID:gaqic@games.golnetwork.com
LOCATION:Molson Stadium
GEO:45.10662;-94.578209
CREATED:20170526T010704Z
DTSTART:20170528T183000Z
DTEND:20170528T191400Z
DTSTAMP:20260420T004514Z
SUMMARY:WAVE FC vs. e-LEMON-ators
DESCRIPTION:e-LEMON-ators vs. WAVE FCPlus d'info : R#113
X-ALT-DESC;FMTTYPE=text/html:<!DOCTYPE HTML PUBLIC "-//W3C//DTD HTML 3.2//E
	N">\n<HTML>\n<HEAD>\n<TITLE></TITLE>\n</HEAD>\n<BODY>\n<h3>e-LEMON-ators vs
	. WAVE FC</h3>Plus d'info : <a href="https://www.golnetwork.com/game/v/1071
	42/">R#113</a>\n\n</BODY>\n</HTML>
STATUS:CONFIRMED
CLASS:PUBLIC
URL:https://www.golnetwork.com/game/v/107142/
X-MICROSOFT-CDO-BUSYSTATUS:BUSY
X-MICROSOFT-CDO-IMPORTANCE:1
END:VEVENT
END:VCALENDAR
