BEGIN:VCALENDAR
PRODID:-//gdesolutions.com//MV Framework 1.0.0.1607 Calendar//EN
VERSION:2.0
METHOD:PUBLISH
CALSCALE:GREGORIAN
BEGIN:VEVENT
UID:g9047@games.golnetwork.com
LOCATION:CVM - Court #1
GEO:45.5146585;-73.5658635
CREATED:20160501T003617Z
DTSTART:20160824T013000Z
DTEND:20160824T023000Z
DTSTAMP:20260423T081811Z
SUMMARY:D BLOCK vs. THE FLINT TROPICS
DESCRIPTION:THE FLINT TROPICS vs. D BLOCKPlus d'info : #366
X-ALT-DESC;FMTTYPE=text/html:<!DOCTYPE HTML PUBLIC "-//W3C//DTD HTML 3.2//E
	N">\n<HTML>\n<HEAD>\n<TITLE></TITLE>\n</HEAD>\n<BODY>\n<h3>THE FLINT TROPIC
	S vs. D BLOCK</h3>Plus d'info : <a href="https://www.golnetwork.com/game/v/
	87632/">#366</a>\n\n</BODY>\n</HTML>
STATUS:CONFIRMED
CLASS:PUBLIC
URL:https://www.golnetwork.com/game/v/87632/
X-MICROSOFT-CDO-BUSYSTATUS:BUSY
X-MICROSOFT-CDO-IMPORTANCE:1
END:VEVENT
BEGIN:VEVENT
UID:g8qn7@games.golnetwork.com
LOCATION:Marianopolis #1
GEO:45.4807868;-73.610845
CREATED:20160501T003616Z
DTSTART:20160819T001500Z
DTEND:20160819T011500Z
DTSTAMP:20260423T081811Z
SUMMARY:D BLOCK vs. PAX TOWN
DESCRIPTION:PAX TOWN vs. D BLOCKPlus d'info : #347
X-ALT-DESC;FMTTYPE=text/html:<!DOCTYPE HTML PUBLIC "-//W3C//DTD HTML 3.2//E
	N">\n<HTML>\n<HEAD>\n<TITLE></TITLE>\n</HEAD>\n<BODY>\n<h3>PAX TOWN vs. D B
	LOCK</h3>Plus d'info : <a href="https://www.golnetwork.com/game/v/87524/">#
	347</a>\n\n</BODY>\n</HTML>
STATUS:CONFIRMED
CLASS:PUBLIC
URL:https://www.golnetwork.com/game/v/87524/
X-MICROSOFT-CDO-BUSYSTATUS:BUSY
X-MICROSOFT-CDO-IMPORTANCE:1
END:VEVENT
BEGIN:VEVENT
UID:g903o@games.golnetwork.com
LOCATION:CVM - Court #1
GEO:45.5146585;-73.5658635
CREATED:20160501T003617Z
DTSTART:20160817T013000Z
DTEND:20160817T023000Z
DTSTAMP:20260423T081811Z
SUMMARY:SUPERSTARZ vs. D BLOCK
DESCRIPTION:D BLOCK vs. SUPERSTARZPlus d'info : #339
X-ALT-DESC;FMTTYPE=text/html:<!DOCTYPE HTML PUBLIC "-//W3C//DTD HTML 3.2//E
	N">\n<HTML>\n<HEAD>\n<TITLE></TITLE>\n</HEAD>\n<BODY>\n<h3>D BLOCK vs. SUPE
	RSTARZ</h3>Plus d'info : <a href="https://www.golnetwork.com/game/v/87627/"
	>#339</a>\n\n</BODY>\n</HTML>
STATUS:CONFIRMED
CLASS:PUBLIC
URL:https://www.golnetwork.com/game/v/87627/
X-MICROSOFT-CDO-BUSYSTATUS:BUSY
X-MICROSOFT-CDO-IMPORTANCE:1
END:VEVENT
BEGIN:VEVENT
UID:g9036@games.golnetwork.com
LOCATION:CVM - Court #1
GEO:45.5146585;-73.5658635
CREATED:20160501T003617Z
DTSTART:20160810T013000Z
DTEND:20160810T023000Z
DTSTAMP:20260423T081811Z
SUMMARY:PIPPEN AINT EASY vs. D BLOCK
DESCRIPTION:D BLOCK vs. PIPPEN AINT EASYPlus d'info : #311
X-ALT-DESC;FMTTYPE=text/html:<!DOCTYPE HTML PUBLIC "-//W3C//DTD HTML 3.2//E
	N">\n<HTML>\n<HEAD>\n<TITLE></TITLE>\n</HEAD>\n<BODY>\n<h3>D BLOCK vs. PIPP
	EN AINT EASY</h3>Plus d'info : <a href="https://www.golnetwork.com/game/v/8
	7618/">#311</a>\n\n</BODY>\n</HTML>
STATUS:CONFIRMED
CLASS:PUBLIC
URL:https://www.golnetwork.com/game/v/87618/
X-MICROSOFT-CDO-BUSYSTATUS:BUSY
X-MICROSOFT-CDO-IMPORTANCE:1
END:VEVENT
BEGIN:VEVENT
UID:g902f@games.golnetwork.com
LOCATION:Marianopolis #1
GEO:45.4807868;-73.610845
CREATED:20160501T003617Z
DTSTART:20160803T003000Z
DTEND:20160803T013000Z
DTSTAMP:20260423T081811Z
SUMMARY:DEMONS vs. D BLOCK
DESCRIPTION:D BLOCK vs. DEMONSPlus d'info : #286
X-ALT-DESC;FMTTYPE=text/html:<!DOCTYPE HTML PUBLIC "-//W3C//DTD HTML 3.2//E
	N">\n<HTML>\n<HEAD>\n<TITLE></TITLE>\n</HEAD>\n<BODY>\n<h3>D BLOCK vs. DEMO
	NS</h3>Plus d'info : <a href="https://www.golnetwork.com/game/v/87609/">#28
	6</a>\n\n</BODY>\n</HTML>
STATUS:CONFIRMED
CLASS:PUBLIC
URL:https://www.golnetwork.com/game/v/87609/
X-MICROSOFT-CDO-BUSYSTATUS:BUSY
X-MICROSOFT-CDO-IMPORTANCE:1
END:VEVENT
BEGIN:VEVENT
UID:g901o@games.golnetwork.com
LOCATION:CVM - Court #1
GEO:45.5146585;-73.5658635
CREATED:20160501T003617Z
DTSTART:20160727T003000Z
DTEND:20160727T013000Z
DTSTAMP:20260423T081811Z
SUMMARY:BLACK MAMBAS vs. D BLOCK
DESCRIPTION:D BLOCK vs. BLACK MAMBASPlus d'info : #261
X-ALT-DESC;FMTTYPE=text/html:<!DOCTYPE HTML PUBLIC "-//W3C//DTD HTML 3.2//E
	N">\n<HTML>\n<HEAD>\n<TITLE></TITLE>\n</HEAD>\n<BODY>\n<h3>D BLOCK vs. BLAC
	K MAMBAS</h3>Plus d'info : <a href="https://www.golnetwork.com/game/v/87600
	/">#261</a>\n\n</BODY>\n</HTML>
STATUS:CONFIRMED
CLASS:PUBLIC
URL:https://www.golnetwork.com/game/v/87600/
X-MICROSOFT-CDO-BUSYSTATUS:BUSY
X-MICROSOFT-CDO-IMPORTANCE:1
END:VEVENT
BEGIN:VEVENT
UID:g9016@games.golnetwork.com
LOCATION:Marianopolis #1
GEO:45.4807868;-73.610845
CREATED:20160501T003617Z
DTSTART:20160725T223000Z
DTEND:20160725T233000Z
DTSTAMP:20260423T081811Z
SUMMARY:MURRAY HILL vs. D BLOCK
DESCRIPTION:D BLOCK vs. MURRAY HILLPlus d'info : #252
X-ALT-DESC;FMTTYPE=text/html:<!DOCTYPE HTML PUBLIC "-//W3C//DTD HTML 3.2//E
	N">\n<HTML>\n<HEAD>\n<TITLE></TITLE>\n</HEAD>\n<BODY>\n<h3>D BLOCK vs. MURR
	AY HILL</h3>Plus d'info : <a href="https://www.golnetwork.com/game/v/87591/
	">#252</a>\n\n</BODY>\n</HTML>
STATUS:CONFIRMED
CLASS:PUBLIC
URL:https://www.golnetwork.com/game/v/87591/
X-MICROSOFT-CDO-BUSYSTATUS:BUSY
X-MICROSOFT-CDO-IMPORTANCE:1
END:VEVENT
BEGIN:VEVENT
UID:g900f@games.golnetwork.com
LOCATION:Marianopolis #1
GEO:45.4807868;-73.610845
CREATED:20160501T003617Z
DTSTART:20160712T223000Z
DTEND:20160712T233000Z
DTSTAMP:20260423T081811Z
SUMMARY:BERALL vs. D BLOCK
DESCRIPTION:D BLOCK vs. BERALLPlus d'info : #210
X-ALT-DESC;FMTTYPE=text/html:<!DOCTYPE HTML PUBLIC "-//W3C//DTD HTML 3.2//E
	N">\n<HTML>\n<HEAD>\n<TITLE></TITLE>\n</HEAD>\n<BODY>\n<h3>D BLOCK vs. BERA
	LL</h3>Plus d'info : <a href="https://www.golnetwork.com/game/v/87582/">#21
	0</a>\n\n</BODY>\n</HTML>
STATUS:CONFIRMED
CLASS:PUBLIC
URL:https://www.golnetwork.com/game/v/87582/
X-MICROSOFT-CDO-BUSYSTATUS:BUSY
X-MICROSOFT-CDO-IMPORTANCE:1
END:VEVENT
BEGIN:VEVENT
UID:g8qqo@games.golnetwork.com
LOCATION:CVM - Court #1
GEO:45.5146585;-73.5658635
CREATED:20160501T003617Z
DTSTART:20160706T003000Z
DTEND:20160706T013000Z
DTSTAMP:20260423T081811Z
SUMMARY:DADOLLE 2 vs. D BLOCK
DESCRIPTION:D BLOCK vs. DADOLLE 2Plus d'info : #189
X-ALT-DESC;FMTTYPE=text/html:<!DOCTYPE HTML PUBLIC "-//W3C//DTD HTML 3.2//E
	N">\n<HTML>\n<HEAD>\n<TITLE></TITLE>\n</HEAD>\n<BODY>\n<h3>D BLOCK vs. DADO
	LLE 2</h3>Plus d'info : <a href="https://www.golnetwork.com/game/v/87573/">
	#189</a>\n\n</BODY>\n</HTML>
STATUS:CONFIRMED
CLASS:PUBLIC
URL:https://www.golnetwork.com/game/v/87573/
X-MICROSOFT-CDO-BUSYSTATUS:BUSY
X-MICROSOFT-CDO-IMPORTANCE:1
END:VEVENT
BEGIN:VEVENT
UID:g8qqa@games.golnetwork.com
LOCATION:Marianopolis #1
GEO:45.4807868;-73.610845
CREATED:20160501T003616Z
DTSTART:20160629T013000Z
DTEND:20160629T023000Z
DTSTAMP:20260423T081811Z
SUMMARY:D BLOCK vs. OLD SCHOOL
DESCRIPTION:OLD SCHOOL vs. D BLOCKPlus d'info : #169
X-ALT-DESC;FMTTYPE=text/html:<!DOCTYPE HTML PUBLIC "-//W3C//DTD HTML 3.2//E
	N">\n<HTML>\n<HEAD>\n<TITLE></TITLE>\n</HEAD>\n<BODY>\n<h3>OLD SCHOOL vs. D
	 BLOCK</h3>Plus d'info : <a href="https://www.golnetwork.com/game/v/87566/"
	>#169</a>\n\n</BODY>\n</HTML>
STATUS:CONFIRMED
CLASS:PUBLIC
URL:https://www.golnetwork.com/game/v/87566/
X-MICROSOFT-CDO-BUSYSTATUS:BUSY
X-MICROSOFT-CDO-IMPORTANCE:1
END:VEVENT
BEGIN:VEVENT
UID:g8qpn@games.golnetwork.com
LOCATION:Marianopolis #1
GEO:45.4807868;-73.610845
CREATED:20160501T003616Z
DTSTART:20160623T223000Z
DTEND:20160623T233000Z
DTSTAMP:20260423T081811Z
SUMMARY:D BLOCK vs. ANTUAN'S GUNNERS
DESCRIPTION:ANTUAN'S GUNNERS vs. D BLOCKPlus d'info : #150
X-ALT-DESC;FMTTYPE=text/html:<!DOCTYPE HTML PUBLIC "-//W3C//DTD HTML 3.2//E
	N">\n<HTML>\n<HEAD>\n<TITLE></TITLE>\n</HEAD>\n<BODY>\n<h3>ANTUAN'S GUNNERS
	 vs. D BLOCK</h3>Plus d'info : <a href="https://www.golnetwork.com/game/v/8
	7559/">#150</a>\n\n</BODY>\n</HTML>
STATUS:CONFIRMED
CLASS:PUBLIC
URL:https://www.golnetwork.com/game/v/87559/
X-MICROSOFT-CDO-BUSYSTATUS:BUSY
X-MICROSOFT-CDO-IMPORTANCE:1
END:VEVENT
BEGIN:VEVENT
UID:g8qp9@games.golnetwork.com
LOCATION:Marianopolis #1
GEO:45.4807868;-73.610845
CREATED:20160501T003616Z
DTSTART:20160617T013000Z
DTEND:20160617T023000Z
DTSTAMP:20260423T081811Z
SUMMARY:D BLOCK vs. NO EZ BASKET
DESCRIPTION:NO EZ BASKET vs. D BLOCKPlus d'info : #133
X-ALT-DESC;FMTTYPE=text/html:<!DOCTYPE HTML PUBLIC "-//W3C//DTD HTML 3.2//E
	N">\n<HTML>\n<HEAD>\n<TITLE></TITLE>\n</HEAD>\n<BODY>\n<h3>NO EZ BASKET vs.
	 D BLOCK</h3>Plus d'info : <a href="https://www.golnetwork.com/game/v/87552
	/">#133</a>\n\n</BODY>\n</HTML>
STATUS:CONFIRMED
CLASS:PUBLIC
URL:https://www.golnetwork.com/game/v/87552/
X-MICROSOFT-CDO-BUSYSTATUS:BUSY
X-MICROSOFT-CDO-IMPORTANCE:1
END:VEVENT
BEGIN:VEVENT
UID:g8qom@games.golnetwork.com
LOCATION:Marianopolis #1
GEO:45.4807868;-73.610845
CREATED:20160501T003616Z
DTSTART:20160608T003000Z
DTEND:20160608T013000Z
DTSTAMP:20260423T081811Z
SUMMARY:D BLOCK vs. THE FLINT TROPICS
DESCRIPTION:THE FLINT TROPICS vs. D BLOCKPlus d'info : #95
X-ALT-DESC;FMTTYPE=text/html:<!DOCTYPE HTML PUBLIC "-//W3C//DTD HTML 3.2//E
	N">\n<HTML>\n<HEAD>\n<TITLE></TITLE>\n</HEAD>\n<BODY>\n<h3>THE FLINT TROPIC
	S vs. D BLOCK</h3>Plus d'info : <a href="https://www.golnetwork.com/game/v/
	87545/">#95</a>\n\n</BODY>\n</HTML>
STATUS:CONFIRMED
CLASS:PUBLIC
URL:https://www.golnetwork.com/game/v/87545/
X-MICROSOFT-CDO-BUSYSTATUS:BUSY
X-MICROSOFT-CDO-IMPORTANCE:1
END:VEVENT
BEGIN:VEVENT
UID:g8qo8@games.golnetwork.com
LOCATION:Marianopolis #1
GEO:45.4807868;-73.610845
CREATED:20160501T003616Z
DTSTART:20160602T223000Z
DTEND:20160602T233000Z
DTSTAMP:20260423T081811Z
SUMMARY:D BLOCK vs. BREAKGLASS
DESCRIPTION:BREAKGLASS vs. D BLOCKPlus d'info : #78
X-ALT-DESC;FMTTYPE=text/html:<!DOCTYPE HTML PUBLIC "-//W3C//DTD HTML 3.2//E
	N">\n<HTML>\n<HEAD>\n<TITLE></TITLE>\n</HEAD>\n<BODY>\n<h3>BREAKGLASS vs. D
	 BLOCK</h3>Plus d'info : <a href="https://www.golnetwork.com/game/v/87538/"
	>#78</a>\n\n</BODY>\n</HTML>
STATUS:CONFIRMED
CLASS:PUBLIC
URL:https://www.golnetwork.com/game/v/87538/
X-MICROSOFT-CDO-BUSYSTATUS:BUSY
X-MICROSOFT-CDO-IMPORTANCE:1
END:VEVENT
BEGIN:VEVENT
UID:g8qnl@games.golnetwork.com
LOCATION:Marianopolis #1
GEO:45.4807868;-73.610845
CREATED:20160501T003616Z
DTSTART:20160526T223000Z
DTEND:20160526T233000Z
DTSTAMP:20260423T081811Z
SUMMARY:D BLOCK vs. NIPHAKIS
DESCRIPTION:NIPHAKIS vs. D BLOCKPlus d'info : #54
X-ALT-DESC;FMTTYPE=text/html:<!DOCTYPE HTML PUBLIC "-//W3C//DTD HTML 3.2//E
	N">\n<HTML>\n<HEAD>\n<TITLE></TITLE>\n</HEAD>\n<BODY>\n<h3>NIPHAKIS vs. D B
	LOCK</h3>Plus d'info : <a href="https://www.golnetwork.com/game/v/87531/">#
	54</a>\n\n</BODY>\n</HTML>
STATUS:CONFIRMED
CLASS:PUBLIC
URL:https://www.golnetwork.com/game/v/87531/
X-MICROSOFT-CDO-BUSYSTATUS:BUSY
X-MICROSOFT-CDO-IMPORTANCE:1
END:VEVENT
BEGIN:VEVENT
UID:g8qmi@games.golnetwork.com
LOCATION:CVM - Court #1
GEO:45.5146585;-73.5658635
CREATED:20160501T003616Z
DTSTART:20160511T014000Z
DTEND:20160511T024000Z
DTSTAMP:20260423T081811Z
SUMMARY:LES FOX vs. D BLOCK
DESCRIPTION:D BLOCK vs. LES FOXPlus d'info : #11
X-ALT-DESC;FMTTYPE=text/html:<!DOCTYPE HTML PUBLIC "-//W3C//DTD HTML 3.2//E
	N">\n<HTML>\n<HEAD>\n<TITLE></TITLE>\n</HEAD>\n<BODY>\n<h3>D BLOCK vs. LES 
	FOX</h3>Plus d'info : <a href="https://www.golnetwork.com/game/v/87516/">#1
	1</a>\n\n</BODY>\n</HTML>
STATUS:CONFIRMED
CLASS:PUBLIC
URL:https://www.golnetwork.com/game/v/87516/
X-MICROSOFT-CDO-BUSYSTATUS:BUSY
X-MICROSOFT-CDO-IMPORTANCE:1
END:VEVENT
END:VCALENDAR
