BEGIN:VCALENDAR
PRODID:-//gdesolutions.com//MV Framework 1.0.0.1607 Calendar//EN
VERSION:2.0
METHOD:PUBLISH
CALSCALE:GREGORIAN
BEGIN:VEVENT
UID:galgl@games.golnetwork.com
LOCATION:Marianopolis #1
GEO:45.4807868;-73.610845
CREATED:20170507T141150Z
DTSTART:20170825T001500Z
DTEND:20170825T011500Z
DTSTAMP:20260421T015308Z
SUMMARY:D BLOCK vs. NEUBARTH
DESCRIPTION:NEUBARTH vs. D BLOCKPlus d'info : #311
X-ALT-DESC;FMTTYPE=text/html:<!DOCTYPE HTML PUBLIC "-//W3C//DTD HTML 3.2//E
	N">\n<HTML>\n<HEAD>\n<TITLE></TITLE>\n</HEAD>\n<BODY>\n<h3>NEUBARTH vs. D B
	LOCK</h3>Plus d'info : <a href="https://www.golnetwork.com/game/v/105297/">
	#311</a>\n\n</BODY>\n</HTML>
STATUS:CONFIRMED
CLASS:PUBLIC
URL:https://www.golnetwork.com/game/v/105297/
X-MICROSOFT-CDO-BUSYSTATUS:BUSY
X-MICROSOFT-CDO-IMPORTANCE:1
END:VEVENT
BEGIN:VEVENT
UID:gala1@games.golnetwork.com
LOCATION:Marianopolis #1
GEO:45.4807868;-73.610845
CREATED:20170507T141150Z
DTSTART:20170818T001500Z
DTEND:20170818T011500Z
DTSTAMP:20260421T015308Z
SUMMARY:ASTROFUSEES vs. D BLOCK
DESCRIPTION:D BLOCK vs. ASTROFUSEESPlus d'info : #287
X-ALT-DESC;FMTTYPE=text/html:<!DOCTYPE HTML PUBLIC "-//W3C//DTD HTML 3.2//E
	N">\n<HTML>\n<HEAD>\n<TITLE></TITLE>\n</HEAD>\n<BODY>\n<h3>D BLOCK vs. ASTR
	OFUSEES</h3>Plus d'info : <a href="https://www.golnetwork.com/game/v/105206
	/">#287</a>\n\n</BODY>\n</HTML>
STATUS:CONFIRMED
CLASS:PUBLIC
URL:https://www.golnetwork.com/game/v/105206/
X-MICROSOFT-CDO-BUSYSTATUS:BUSY
X-MICROSOFT-CDO-IMPORTANCE:1
END:VEVENT
BEGIN:VEVENT
UID:galg9@games.golnetwork.com
LOCATION:Marianopolis #1
GEO:45.4807868;-73.610845
CREATED:20170507T141150Z
DTSTART:20170815T223000Z
DTEND:20170815T233000Z
DTSTAMP:20260421T015308Z
SUMMARY:D BLOCK vs. 90s LEGENDS
DESCRIPTION:90s LEGENDS vs. D BLOCKPlus d'info : #271
X-ALT-DESC;FMTTYPE=text/html:<!DOCTYPE HTML PUBLIC "-//W3C//DTD HTML 3.2//E
	N">\n<HTML>\n<HEAD>\n<TITLE></TITLE>\n</HEAD>\n<BODY>\n<h3>90s LEGENDS vs. 
	D BLOCK</h3>Plus d'info : <a href="https://www.golnetwork.com/game/v/105291
	/">#271</a>\n\n</BODY>\n</HTML>
STATUS:CONFIRMED
CLASS:PUBLIC
URL:https://www.golnetwork.com/game/v/105291/
X-MICROSOFT-CDO-BUSYSTATUS:BUSY
X-MICROSOFT-CDO-IMPORTANCE:1
END:VEVENT
BEGIN:VEVENT
UID:gal9c@games.golnetwork.com
LOCATION:Marianopolis #1
GEO:45.4807868;-73.610845
CREATED:20170507T141150Z
DTSTART:20170810T233000Z
DTEND:20170811T003000Z
DTSTAMP:20260421T015308Z
SUMMARY:DEMONS vs. D BLOCK
DESCRIPTION:D BLOCK vs. DEMONSPlus d'info : #260
X-ALT-DESC;FMTTYPE=text/html:<!DOCTYPE HTML PUBLIC "-//W3C//DTD HTML 3.2//E
	N">\n<HTML>\n<HEAD>\n<TITLE></TITLE>\n</HEAD>\n<BODY>\n<h3>D BLOCK vs. DEMO
	NS</h3>Plus d'info : <a href="https://www.golnetwork.com/game/v/105198/">#2
	60</a>\n\n</BODY>\n</HTML>
STATUS:CONFIRMED
CLASS:PUBLIC
URL:https://www.golnetwork.com/game/v/105198/
X-MICROSOFT-CDO-BUSYSTATUS:BUSY
X-MICROSOFT-CDO-IMPORTANCE:1
END:VEVENT
BEGIN:VEVENT
UID:galfg@games.golnetwork.com
LOCATION:Marianopolis #1
GEO:45.4807868;-73.610845
CREATED:20170507T141150Z
DTSTART:20170808T223000Z
DTEND:20170808T233000Z
DTSTAMP:20260421T015308Z
SUMMARY:PIPPEN AINT EASY vs. D BLOCK
DESCRIPTION:D BLOCK vs. PIPPEN AINT EASYPlus d'info : #244
X-ALT-DESC;FMTTYPE=text/html:<!DOCTYPE HTML PUBLIC "-//W3C//DTD HTML 3.2//E
	N">\n<HTML>\n<HEAD>\n<TITLE></TITLE>\n</HEAD>\n<BODY>\n<h3>D BLOCK vs. PIPP
	EN AINT EASY</h3>Plus d'info : <a href="https://www.golnetwork.com/game/v/1
	05281/">#244</a>\n\n</BODY>\n</HTML>
STATUS:CONFIRMED
CLASS:PUBLIC
URL:https://www.golnetwork.com/game/v/105281/
X-MICROSOFT-CDO-BUSYSTATUS:BUSY
X-MICROSOFT-CDO-IMPORTANCE:1
END:VEVENT
BEGIN:VEVENT
UID:galh6@games.golnetwork.com
LOCATION:Marianopolis #1
GEO:45.4807868;-73.610845
CREATED:20170507T141150Z
DTSTART:20170803T223000Z
DTEND:20170803T233000Z
DTSTAMP:20260421T015308Z
SUMMARY:D BLOCK vs. WEIS-HEITNER
DESCRIPTION:WEIS-HEITNER vs. D BLOCKPlus d'info : #232
X-ALT-DESC;FMTTYPE=text/html:<!DOCTYPE HTML PUBLIC "-//W3C//DTD HTML 3.2//E
	N">\n<HTML>\n<HEAD>\n<TITLE></TITLE>\n</HEAD>\n<BODY>\n<h3>WEIS-HEITNER vs.
	 D BLOCK</h3>Plus d'info : <a href="https://www.golnetwork.com/game/v/10530
	3/">#232</a>\n\n</BODY>\n</HTML>
STATUS:CONFIRMED
CLASS:PUBLIC
URL:https://www.golnetwork.com/game/v/105303/
X-MICROSOFT-CDO-BUSYSTATUS:BUSY
X-MICROSOFT-CDO-IMPORTANCE:1
END:VEVENT
BEGIN:VEVENT
UID:galf0@games.golnetwork.com
LOCATION:Marianopolis #1
GEO:45.4807868;-73.610845
CREATED:20170507T141150Z
DTSTART:20170802T013000Z
DTEND:20170802T023000Z
DTSTAMP:20260421T015308Z
SUMMARY:BALL BUSTERS vs. D BLOCK
DESCRIPTION:D BLOCK vs. BALL BUSTERSPlus d'info : #226
X-ALT-DESC;FMTTYPE=text/html:<!DOCTYPE HTML PUBLIC "-//W3C//DTD HTML 3.2//E
	N">\n<HTML>\n<HEAD>\n<TITLE></TITLE>\n</HEAD>\n<BODY>\n<h3>D BLOCK vs. BALL
	 BUSTERS</h3>Plus d'info : <a href="https://www.golnetwork.com/game/v/10527
	3/">#226</a>\n\n</BODY>\n</HTML>
STATUS:CONFIRMED
CLASS:PUBLIC
URL:https://www.golnetwork.com/game/v/105273/
X-MICROSOFT-CDO-BUSYSTATUS:BUSY
X-MICROSOFT-CDO-IMPORTANCE:1
END:VEVENT
BEGIN:VEVENT
UID:galeb@games.golnetwork.com
LOCATION:Marianopolis #1
GEO:45.4807868;-73.610845
CREATED:20170507T141150Z
DTSTART:20170727T233000Z
DTEND:20170728T003000Z
DTSTAMP:20260421T015308Z
SUMMARY:THE PROCESS vs. D BLOCK
DESCRIPTION:D BLOCK vs. THE PROCESSPlus d'info : #210
X-ALT-DESC;FMTTYPE=text/html:<!DOCTYPE HTML PUBLIC "-//W3C//DTD HTML 3.2//E
	N">\n<HTML>\n<HEAD>\n<TITLE></TITLE>\n</HEAD>\n<BODY>\n<h3>D BLOCK vs. THE 
	PROCESS</h3>Plus d'info : <a href="https://www.golnetwork.com/game/v/105265
	/">#210</a>\n\n</BODY>\n</HTML>
STATUS:CONFIRMED
CLASS:PUBLIC
URL:https://www.golnetwork.com/game/v/105265/
X-MICROSOFT-CDO-BUSYSTATUS:BUSY
X-MICROSOFT-CDO-IMPORTANCE:1
END:VEVENT
BEGIN:VEVENT
UID:galdm@games.golnetwork.com
LOCATION:Marianopolis #1
GEO:45.4807868;-73.610845
CREATED:20170507T141150Z
DTSTART:20170719T013000Z
DTEND:20170719T023000Z
DTSTAMP:20260421T015308Z
SUMMARY:D BLOCK vs. DO OR DIE
DESCRIPTION:DO OR DIE vs. D BLOCKPlus d'info : #181
X-ALT-DESC;FMTTYPE=text/html:<!DOCTYPE HTML PUBLIC "-//W3C//DTD HTML 3.2//E
	N">\n<HTML>\n<HEAD>\n<TITLE></TITLE>\n</HEAD>\n<BODY>\n<h3>DO OR DIE vs. D 
	BLOCK</h3>Plus d'info : <a href="https://www.golnetwork.com/game/v/105257/"
	>#181</a>\n\n</BODY>\n</HTML>
STATUS:CONFIRMED
CLASS:PUBLIC
URL:https://www.golnetwork.com/game/v/105257/
X-MICROSOFT-CDO-BUSYSTATUS:BUSY
X-MICROSOFT-CDO-IMPORTANCE:1
END:VEVENT
BEGIN:VEVENT
UID:galda@games.golnetwork.com
LOCATION:Marianopolis #1
GEO:45.4807868;-73.610845
CREATED:20170507T141150Z
DTSTART:20170711T223000Z
DTEND:20170711T233000Z
DTSTAMP:20260421T015308Z
SUMMARY:D BLOCK vs. PAX TOWN
DESCRIPTION:PAX TOWN vs. D BLOCKPlus d'info : #151
X-ALT-DESC;FMTTYPE=text/html:<!DOCTYPE HTML PUBLIC "-//W3C//DTD HTML 3.2//E
	N">\n<HTML>\n<HEAD>\n<TITLE></TITLE>\n</HEAD>\n<BODY>\n<h3>PAX TOWN vs. D B
	LOCK</h3>Plus d'info : <a href="https://www.golnetwork.com/game/v/105251/">
	#151</a>\n\n</BODY>\n</HTML>
STATUS:CONFIRMED
CLASS:PUBLIC
URL:https://www.golnetwork.com/game/v/105251/
X-MICROSOFT-CDO-BUSYSTATUS:BUSY
X-MICROSOFT-CDO-IMPORTANCE:1
END:VEVENT
BEGIN:VEVENT
UID:galcp@games.golnetwork.com
LOCATION:Marianopolis #1
GEO:45.4807868;-73.610845
CREATED:20170507T141150Z
DTSTART:20170704T233000Z
DTEND:20170705T003000Z
DTSTAMP:20260421T015308Z
SUMMARY:D BLOCK vs. BLACK MAMBAS
DESCRIPTION:BLACK MAMBAS vs. D BLOCKPlus d'info : #130
X-ALT-DESC;FMTTYPE=text/html:<!DOCTYPE HTML PUBLIC "-//W3C//DTD HTML 3.2//E
	N">\n<HTML>\n<HEAD>\n<TITLE></TITLE>\n</HEAD>\n<BODY>\n<h3>BLACK MAMBAS vs.
	 D BLOCK</h3>Plus d'info : <a href="https://www.golnetwork.com/game/v/10524
	5/">#130</a>\n\n</BODY>\n</HTML>
STATUS:CONFIRMED
CLASS:PUBLIC
URL:https://www.golnetwork.com/game/v/105245/
X-MICROSOFT-CDO-BUSYSTATUS:BUSY
X-MICROSOFT-CDO-IMPORTANCE:1
END:VEVENT
BEGIN:VEVENT
UID:galcd@games.golnetwork.com
LOCATION:Marianopolis #1
GEO:45.4807868;-73.610845
CREATED:20170507T141150Z
DTSTART:20170627T233000Z
DTEND:20170628T003000Z
DTSTAMP:20260421T015308Z
SUMMARY:D BLOCK vs. SPBP
DESCRIPTION:SPBP vs. D BLOCKPlus d'info : #110
X-ALT-DESC;FMTTYPE=text/html:<!DOCTYPE HTML PUBLIC "-//W3C//DTD HTML 3.2//E
	N">\n<HTML>\n<HEAD>\n<TITLE></TITLE>\n</HEAD>\n<BODY>\n<h3>SPBP vs. D BLOCK
	</h3>Plus d'info : <a href="https://www.golnetwork.com/game/v/105239/">#110
	</a>\n\n</BODY>\n</HTML>
STATUS:CONFIRMED
CLASS:PUBLIC
URL:https://www.golnetwork.com/game/v/105239/
X-MICROSOFT-CDO-BUSYSTATUS:BUSY
X-MICROSOFT-CDO-IMPORTANCE:1
END:VEVENT
BEGIN:VEVENT
UID:galc1@games.golnetwork.com
LOCATION:Marianopolis #1
GEO:45.4807868;-73.610845
CREATED:20170507T141150Z
DTSTART:20170620T223000Z
DTEND:20170620T233000Z
DTSTAMP:20260421T015308Z
SUMMARY:D BLOCK vs. 90s LEGENDS
DESCRIPTION:90s LEGENDS vs. D BLOCKPlus d'info : #80
X-ALT-DESC;FMTTYPE=text/html:<!DOCTYPE HTML PUBLIC "-//W3C//DTD HTML 3.2//E
	N">\n<HTML>\n<HEAD>\n<TITLE></TITLE>\n</HEAD>\n<BODY>\n<h3>90s LEGENDS vs. 
	D BLOCK</h3>Plus d'info : <a href="https://www.golnetwork.com/game/v/105233
	/">#80</a>\n\n</BODY>\n</HTML>
STATUS:CONFIRMED
CLASS:PUBLIC
URL:https://www.golnetwork.com/game/v/105233/
X-MICROSOFT-CDO-BUSYSTATUS:BUSY
X-MICROSOFT-CDO-IMPORTANCE:1
END:VEVENT
BEGIN:VEVENT
UID:galbg@games.golnetwork.com
LOCATION:Marianopolis #1
GEO:45.4807868;-73.610845
CREATED:20170507T141150Z
DTSTART:20170614T013000Z
DTEND:20170614T023000Z
DTSTAMP:20260421T015308Z
SUMMARY:D BLOCK vs. WEIS-HEITNER
DESCRIPTION:WEIS-HEITNER vs. D BLOCKPlus d'info : #72
X-ALT-DESC;FMTTYPE=text/html:<!DOCTYPE HTML PUBLIC "-//W3C//DTD HTML 3.2//E
	N">\n<HTML>\n<HEAD>\n<TITLE></TITLE>\n</HEAD>\n<BODY>\n<h3>WEIS-HEITNER vs.
	 D BLOCK</h3>Plus d'info : <a href="https://www.golnetwork.com/game/v/10522
	7/">#72</a>\n\n</BODY>\n</HTML>
STATUS:CONFIRMED
CLASS:PUBLIC
URL:https://www.golnetwork.com/game/v/105227/
X-MICROSOFT-CDO-BUSYSTATUS:BUSY
X-MICROSOFT-CDO-IMPORTANCE:1
END:VEVENT
BEGIN:VEVENT
UID:galb4@games.golnetwork.com
LOCATION:Marianopolis #1
GEO:45.4807868;-73.610845
CREATED:20170507T141150Z
DTSTART:20170608T223000Z
DTEND:20170608T233000Z
DTSTAMP:20260421T015308Z
SUMMARY:D BLOCK vs. NEUBARTH
DESCRIPTION:NEUBARTH vs. D BLOCKPlus d'info : #52
X-ALT-DESC;FMTTYPE=text/html:<!DOCTYPE HTML PUBLIC "-//W3C//DTD HTML 3.2//E
	N">\n<HTML>\n<HEAD>\n<TITLE></TITLE>\n</HEAD>\n<BODY>\n<h3>NEUBARTH vs. D B
	LOCK</h3>Plus d'info : <a href="https://www.golnetwork.com/game/v/105221/">
	#52</a>\n\n</BODY>\n</HTML>
STATUS:CONFIRMED
CLASS:PUBLIC
URL:https://www.golnetwork.com/game/v/105221/
X-MICROSOFT-CDO-BUSYSTATUS:BUSY
X-MICROSOFT-CDO-IMPORTANCE:1
END:VEVENT
BEGIN:VEVENT
UID:galah@games.golnetwork.com
LOCATION:Marianopolis #1
GEO:45.4807868;-73.610845
CREATED:20170507T141150Z
DTSTART:20170530T223000Z
DTEND:20170530T233000Z
DTSTAMP:20260421T015308Z
SUMMARY:DADOLLE 2 vs. D BLOCK
DESCRIPTION:D BLOCK vs. DADOLLE 2Plus d'info : #16
X-ALT-DESC;FMTTYPE=text/html:<!DOCTYPE HTML PUBLIC "-//W3C//DTD HTML 3.2//E
	N">\n<HTML>\n<HEAD>\n<TITLE></TITLE>\n</HEAD>\n<BODY>\n<h3>D BLOCK vs. DADO
	LLE 2</h3>Plus d'info : <a href="https://www.golnetwork.com/game/v/105214/"
	>#16</a>\n\n</BODY>\n</HTML>
STATUS:CONFIRMED
CLASS:PUBLIC
URL:https://www.golnetwork.com/game/v/105214/
X-MICROSOFT-CDO-BUSYSTATUS:BUSY
X-MICROSOFT-CDO-IMPORTANCE:1
END:VEVENT
END:VCALENDAR
