BEGIN:VCALENDAR
PRODID:-//gdesolutions.com//MV Framework 1.0.0.1607 Calendar//EN
VERSION:2.0
METHOD:PUBLISH
CALSCALE:GREGORIAN
BEGIN:VEVENT
UID:g8qi8@games.golnetwork.com
LOCATION:CVM - Court #1
GEO:45.5146585;-73.5658635
CREATED:20160430T224648Z
DTSTART:20160916T013000Z
DTEND:20160916T022000Z
DTSTAMP:20260424T071647Z
SUMMARY:DIRK KNIGHT RISES vs. THE TRIBE
DESCRIPTION:THE TRIBE vs. DIRK KNIGHT RISESPlus d'info : #419
X-ALT-DESC;FMTTYPE=text/html:<!DOCTYPE HTML PUBLIC "-//W3C//DTD HTML 3.2//E
	N">\n<HTML>\n<HEAD>\n<TITLE></TITLE>\n</HEAD>\n<BODY>\n<h3>THE TRIBE vs. DI
	RK KNIGHT RISES</h3>Plus d'info : <a href="https://www.golnetwork.com/game/
	v/87457/">#419</a>\n\n</BODY>\n</HTML>
STATUS:CONFIRMED
CLASS:PUBLIC
URL:https://www.golnetwork.com/game/v/87457/
X-MICROSOFT-CDO-BUSYSTATUS:BUSY
X-MICROSOFT-CDO-IMPORTANCE:1
END:VEVENT
BEGIN:VEVENT
UID:g8qi0@games.golnetwork.com
LOCATION:CVM - Court #1
GEO:45.5146585;-73.5658635
CREATED:20160430T224648Z
DTSTART:20160909T013000Z
DTEND:20160909T022000Z
DTSTAMP:20260424T071647Z
SUMMARY:THE TRIBE vs. BROUILLETTE
DESCRIPTION:BROUILLETTE vs. THE TRIBEPlus d'info : #409
X-ALT-DESC;FMTTYPE=text/html:<!DOCTYPE HTML PUBLIC "-//W3C//DTD HTML 3.2//E
	N">\n<HTML>\n<HEAD>\n<TITLE></TITLE>\n</HEAD>\n<BODY>\n<h3>BROUILLETTE vs. 
	THE TRIBE</h3>Plus d'info : <a href="https://www.golnetwork.com/game/v/8745
	3/">#409</a>\n\n</BODY>\n</HTML>
STATUS:CONFIRMED
CLASS:PUBLIC
URL:https://www.golnetwork.com/game/v/87453/
X-MICROSOFT-CDO-BUSYSTATUS:BUSY
X-MICROSOFT-CDO-IMPORTANCE:1
END:VEVENT
END:VCALENDAR
