BEGIN:VCALENDAR
PRODID:-//gdesolutions.com//MV Framework 1.0.0.1607 Calendar//EN
VERSION:2.0
METHOD:PUBLISH
CALSCALE:GREGORIAN
BEGIN:VEVENT
UID:g90ap@games.golnetwork.com
LOCATION:Trafalgar
GEO:45.4987672;-73.5845067
CREATED:20160501T005605Z
DTSTART:20160906T233000Z
DTEND:20160907T003000Z
DTSTAMP:20260422T071547Z
SUMMARY:CEPS vs. DEV HOOPS
DESCRIPTION:DEV HOOPS vs. CEPSPlus d'info : #70
X-ALT-DESC;FMTTYPE=text/html:<!DOCTYPE HTML PUBLIC "-//W3C//DTD HTML 3.2//E
	N">\n<HTML>\n<HEAD>\n<TITLE></TITLE>\n</HEAD>\n<BODY>\n<h3>DEV HOOPS vs. CE
	PS</h3>Plus d'info : <a href="https://www.golnetwork.com/game/v/87722/">#70
	</a>\n\n</BODY>\n</HTML>
STATUS:CONFIRMED
CLASS:PUBLIC
URL:https://www.golnetwork.com/game/v/87722/
X-MICROSOFT-CDO-BUSYSTATUS:BUSY
X-MICROSOFT-CDO-IMPORTANCE:1
END:VEVENT
BEGIN:VEVENT
UID:g90af@games.golnetwork.com
LOCATION:Trafalgar
GEO:45.4987672;-73.5845067
CREATED:20160501T005605Z
DTSTART:20160831T003000Z
DTEND:20160831T013000Z
DTSTAMP:20260422T071547Z
SUMMARY:WILDCATS vs. DEV HOOPS
DESCRIPTION:DEV HOOPS vs. WILDCATSPlus d'info : #65
X-ALT-DESC;FMTTYPE=text/html:<!DOCTYPE HTML PUBLIC "-//W3C//DTD HTML 3.2//E
	N">\n<HTML>\n<HEAD>\n<TITLE></TITLE>\n</HEAD>\n<BODY>\n<h3>DEV HOOPS vs. WI
	LDCATS</h3>Plus d'info : <a href="https://www.golnetwork.com/game/v/87717/"
	>#65</a>\n\n</BODY>\n</HTML>
STATUS:CONFIRMED
CLASS:PUBLIC
URL:https://www.golnetwork.com/game/v/87717/
X-MICROSOFT-CDO-BUSYSTATUS:BUSY
X-MICROSOFT-CDO-IMPORTANCE:1
END:VEVENT
BEGIN:VEVENT
UID:g90a5@games.golnetwork.com
LOCATION:CVM - Court #1
GEO:45.5146585;-73.5658635
CREATED:20160501T005605Z
DTSTART:20160824T233000Z
DTEND:20160825T003000Z
DTSTAMP:20260422T071547Z
SUMMARY:DEV HOOPS vs. EY
DESCRIPTION:EY vs. DEV HOOPSPlus d'info : #64
X-ALT-DESC;FMTTYPE=text/html:<!DOCTYPE HTML PUBLIC "-//W3C//DTD HTML 3.2//E
	N">\n<HTML>\n<HEAD>\n<TITLE></TITLE>\n</HEAD>\n<BODY>\n<h3>EY vs. DEV HOOPS
	</h3>Plus d'info : <a href="https://www.golnetwork.com/game/v/87712/">#64</
	a>\n\n</BODY>\n</HTML>
STATUS:CONFIRMED
CLASS:PUBLIC
URL:https://www.golnetwork.com/game/v/87712/
X-MICROSOFT-CDO-BUSYSTATUS:BUSY
X-MICROSOFT-CDO-IMPORTANCE:1
END:VEVENT
BEGIN:VEVENT
UID:g909q@games.golnetwork.com
LOCATION:CVM - Court #1
GEO:45.5146585;-73.5658635
CREATED:20160501T005605Z
DTSTART:20160817T003000Z
DTEND:20160817T013000Z
DTSTAMP:20260422T071547Z
SUMMARY:DEV HOOPS vs. TOP GUNZ
DESCRIPTION:TOP GUNZ vs. DEV HOOPSPlus d'info : #58
X-ALT-DESC;FMTTYPE=text/html:<!DOCTYPE HTML PUBLIC "-//W3C//DTD HTML 3.2//E
	N">\n<HTML>\n<HEAD>\n<TITLE></TITLE>\n</HEAD>\n<BODY>\n<h3>TOP GUNZ vs. DEV
	 HOOPS</h3>Plus d'info : <a href="https://www.golnetwork.com/game/v/87709/"
	>#58</a>\n\n</BODY>\n</HTML>
STATUS:CONFIRMED
CLASS:PUBLIC
URL:https://www.golnetwork.com/game/v/87709/
X-MICROSOFT-CDO-BUSYSTATUS:BUSY
X-MICROSOFT-CDO-IMPORTANCE:1
END:VEVENT
BEGIN:VEVENT
UID:g909k@games.golnetwork.com
LOCATION:Marianopolis #1
GEO:45.4807868;-73.610845
CREATED:20160501T005605Z
DTSTART:20160809T233000Z
DTEND:20160810T003000Z
DTSTAMP:20260422T071547Z
SUMMARY:ONYX vs. DEV HOOPS
DESCRIPTION:DEV HOOPS vs. ONYXPlus d'info : #54
X-ALT-DESC;FMTTYPE=text/html:<!DOCTYPE HTML PUBLIC "-//W3C//DTD HTML 3.2//E
	N">\n<HTML>\n<HEAD>\n<TITLE></TITLE>\n</HEAD>\n<BODY>\n<h3>DEV HOOPS vs. ON
	YX</h3>Plus d'info : <a href="https://www.golnetwork.com/game/v/87706/">#54
	</a>\n\n</BODY>\n</HTML>
STATUS:CONFIRMED
CLASS:PUBLIC
URL:https://www.golnetwork.com/game/v/87706/
X-MICROSOFT-CDO-BUSYSTATUS:BUSY
X-MICROSOFT-CDO-IMPORTANCE:1
END:VEVENT
BEGIN:VEVENT
UID:g909a@games.golnetwork.com
LOCATION:Marianopolis #1
GEO:45.4807868;-73.610845
CREATED:20160501T005605Z
DTSTART:20160803T013000Z
DTEND:20160803T023000Z
DTSTAMP:20260422T071547Z
SUMMARY:EY vs. DEV HOOPS
DESCRIPTION:DEV HOOPS vs. EYPlus d'info : #52
X-ALT-DESC;FMTTYPE=text/html:<!DOCTYPE HTML PUBLIC "-//W3C//DTD HTML 3.2//E
	N">\n<HTML>\n<HEAD>\n<TITLE></TITLE>\n</HEAD>\n<BODY>\n<h3>DEV HOOPS vs. EY
	</h3>Plus d'info : <a href="https://www.golnetwork.com/game/v/87701/">#52</
	a>\n\n</BODY>\n</HTML>
STATUS:CONFIRMED
CLASS:PUBLIC
URL:https://www.golnetwork.com/game/v/87701/
X-MICROSOFT-CDO-BUSYSTATUS:BUSY
X-MICROSOFT-CDO-IMPORTANCE:1
END:VEVENT
BEGIN:VEVENT
UID:g9090@games.golnetwork.com
LOCATION:CVM - Court #1
GEO:45.5146585;-73.5658635
CREATED:20160501T005605Z
DTSTART:20160727T013000Z
DTEND:20160727T023000Z
DTSTAMP:20260422T071547Z
SUMMARY:TOP GUNZ vs. DEV HOOPS
DESCRIPTION:DEV HOOPS vs. TOP GUNZPlus d'info : #48
X-ALT-DESC;FMTTYPE=text/html:<!DOCTYPE HTML PUBLIC "-//W3C//DTD HTML 3.2//E
	N">\n<HTML>\n<HEAD>\n<TITLE></TITLE>\n</HEAD>\n<BODY>\n<h3>DEV HOOPS vs. TO
	P GUNZ</h3>Plus d'info : <a href="https://www.golnetwork.com/game/v/87696/"
	>#48</a>\n\n</BODY>\n</HTML>
STATUS:CONFIRMED
CLASS:PUBLIC
URL:https://www.golnetwork.com/game/v/87696/
X-MICROSOFT-CDO-BUSYSTATUS:BUSY
X-MICROSOFT-CDO-IMPORTANCE:1
END:VEVENT
BEGIN:VEVENT
UID:g908l@games.golnetwork.com
LOCATION:CVM - Court #1
GEO:45.5146585;-73.5658635
CREATED:20160501T005605Z
DTSTART:20160720T013000Z
DTEND:20160720T023000Z
DTSTAMP:20260422T071547Z
SUMMARY:DEV HOOPS vs. CRAZY 8's
DESCRIPTION:CRAZY 8's vs. DEV HOOPSPlus d'info : #44
X-ALT-DESC;FMTTYPE=text/html:<!DOCTYPE HTML PUBLIC "-//W3C//DTD HTML 3.2//E
	N">\n<HTML>\n<HEAD>\n<TITLE></TITLE>\n</HEAD>\n<BODY>\n<h3>CRAZY 8's vs. DE
	V HOOPS</h3>Plus d'info : <a href="https://www.golnetwork.com/game/v/87693/
	">#44</a>\n\n</BODY>\n</HTML>
STATUS:CONFIRMED
CLASS:PUBLIC
URL:https://www.golnetwork.com/game/v/87693/
X-MICROSOFT-CDO-BUSYSTATUS:BUSY
X-MICROSOFT-CDO-IMPORTANCE:1
END:VEVENT
BEGIN:VEVENT
UID:g908f@games.golnetwork.com
LOCATION:Marianopolis #1
GEO:45.4807868;-73.610845
CREATED:20160501T005605Z
DTSTART:20160712T233000Z
DTEND:20160713T003000Z
DTSTAMP:20260422T071547Z
SUMMARY:DEV HOOPS vs. WILDCATS
DESCRIPTION:WILDCATS vs. DEV HOOPSPlus d'info : #38
X-ALT-DESC;FMTTYPE=text/html:<!DOCTYPE HTML PUBLIC "-//W3C//DTD HTML 3.2//E
	N">\n<HTML>\n<HEAD>\n<TITLE></TITLE>\n</HEAD>\n<BODY>\n<h3>WILDCATS vs. DEV
	 HOOPS</h3>Plus d'info : <a href="https://www.golnetwork.com/game/v/87690/"
	>#38</a>\n\n</BODY>\n</HTML>
STATUS:CONFIRMED
CLASS:PUBLIC
URL:https://www.golnetwork.com/game/v/87690/
X-MICROSOFT-CDO-BUSYSTATUS:BUSY
X-MICROSOFT-CDO-IMPORTANCE:1
END:VEVENT
BEGIN:VEVENT
UID:g9089@games.golnetwork.com
LOCATION:CVM - Court #1
GEO:45.5146585;-73.5658635
CREATED:20160501T005605Z
DTSTART:20160706T013000Z
DTEND:20160706T023000Z
DTSTAMP:20260422T071547Z
SUMMARY:DEV HOOPS vs. CEPS
DESCRIPTION:CEPS vs. DEV HOOPSPlus d'info : #36
X-ALT-DESC;FMTTYPE=text/html:<!DOCTYPE HTML PUBLIC "-//W3C//DTD HTML 3.2//E
	N">\n<HTML>\n<HEAD>\n<TITLE></TITLE>\n</HEAD>\n<BODY>\n<h3>CEPS vs. DEV HOO
	PS</h3>Plus d'info : <a href="https://www.golnetwork.com/game/v/87687/">#36
	</a>\n\n</BODY>\n</HTML>
STATUS:CONFIRMED
CLASS:PUBLIC
URL:https://www.golnetwork.com/game/v/87687/
X-MICROSOFT-CDO-BUSYSTATUS:BUSY
X-MICROSOFT-CDO-IMPORTANCE:1
END:VEVENT
BEGIN:VEVENT
UID:g907m@games.golnetwork.com
LOCATION:Marianopolis #1
GEO:45.4807868;-73.610845
CREATED:20160501T005605Z
DTSTART:20160629T003000Z
DTEND:20160629T013000Z
DTSTAMP:20260422T071547Z
SUMMARY:DEV HOOPS vs. WILDCATS
DESCRIPTION:WILDCATS vs. DEV HOOPSPlus d'info : #32
X-ALT-DESC;FMTTYPE=text/html:<!DOCTYPE HTML PUBLIC "-//W3C//DTD HTML 3.2//E
	N">\n<HTML>\n<HEAD>\n<TITLE></TITLE>\n</HEAD>\n<BODY>\n<h3>WILDCATS vs. DEV
	 HOOPS</h3>Plus d'info : <a href="https://www.golnetwork.com/game/v/87680/"
	>#32</a>\n\n</BODY>\n</HTML>
STATUS:CONFIRMED
CLASS:PUBLIC
URL:https://www.golnetwork.com/game/v/87680/
X-MICROSOFT-CDO-BUSYSTATUS:BUSY
X-MICROSOFT-CDO-IMPORTANCE:1
END:VEVENT
BEGIN:VEVENT
UID:g907k@games.golnetwork.com
LOCATION:CVM - Court #1
GEO:45.5146585;-73.5658635
CREATED:20160501T005605Z
DTSTART:20160621T233000Z
DTEND:20160622T003000Z
DTSTAMP:20260422T071547Z
SUMMARY:DEV HOOPS vs. WILDCATS
DESCRIPTION:WILDCATS vs. DEV HOOPSPlus d'info : #26
X-ALT-DESC;FMTTYPE=text/html:<!DOCTYPE HTML PUBLIC "-//W3C//DTD HTML 3.2//E
	N">\n<HTML>\n<HEAD>\n<TITLE></TITLE>\n</HEAD>\n<BODY>\n<h3>WILDCATS vs. DEV
	 HOOPS</h3>Plus d'info : <a href="https://www.golnetwork.com/game/v/87679/"
	>#26</a>\n\n</BODY>\n</HTML>
STATUS:CONFIRMED
CLASS:PUBLIC
URL:https://www.golnetwork.com/game/v/87679/
X-MICROSOFT-CDO-BUSYSTATUS:BUSY
X-MICROSOFT-CDO-IMPORTANCE:1
END:VEVENT
BEGIN:VEVENT
UID:g907c@games.golnetwork.com
LOCATION:Marianopolis #1
GEO:45.4807868;-73.610845
CREATED:20160501T005605Z
DTSTART:20160614T223000Z
DTEND:20160614T233000Z
DTSTAMP:20260422T071547Z
SUMMARY:CRAZY 8's vs. DEV HOOPS
DESCRIPTION:DEV HOOPS vs. CRAZY 8'sPlus d'info : #21
X-ALT-DESC;FMTTYPE=text/html:<!DOCTYPE HTML PUBLIC "-//W3C//DTD HTML 3.2//E
	N">\n<HTML>\n<HEAD>\n<TITLE></TITLE>\n</HEAD>\n<BODY>\n<h3>DEV HOOPS vs. CR
	AZY 8's</h3>Plus d'info : <a href="https://www.golnetwork.com/game/v/87675/
	">#21</a>\n\n</BODY>\n</HTML>
STATUS:CONFIRMED
CLASS:PUBLIC
URL:https://www.golnetwork.com/game/v/87675/
X-MICROSOFT-CDO-BUSYSTATUS:BUSY
X-MICROSOFT-CDO-IMPORTANCE:1
END:VEVENT
BEGIN:VEVENT
UID:g9072@games.golnetwork.com
LOCATION:Marianopolis #1
GEO:45.4807868;-73.610845
CREATED:20160501T005605Z
DTSTART:20160608T013000Z
DTEND:20160608T023000Z
DTSTAMP:20260422T071547Z
SUMMARY:EY vs. DEV HOOPS
DESCRIPTION:DEV HOOPS vs. EYPlus d'info : #20
X-ALT-DESC;FMTTYPE=text/html:<!DOCTYPE HTML PUBLIC "-//W3C//DTD HTML 3.2//E
	N">\n<HTML>\n<HEAD>\n<TITLE></TITLE>\n</HEAD>\n<BODY>\n<h3>DEV HOOPS vs. EY
	</h3>Plus d'info : <a href="https://www.golnetwork.com/game/v/87670/">#20</
	a>\n\n</BODY>\n</HTML>
STATUS:CONFIRMED
CLASS:PUBLIC
URL:https://www.golnetwork.com/game/v/87670/
X-MICROSOFT-CDO-BUSYSTATUS:BUSY
X-MICROSOFT-CDO-IMPORTANCE:1
END:VEVENT
BEGIN:VEVENT
UID:g906j@games.golnetwork.com
LOCATION:Marianopolis #1
GEO:45.4807868;-73.610845
CREATED:20160501T005605Z
DTSTART:20160601T013000Z
DTEND:20160601T023000Z
DTSTAMP:20260422T071547Z
SUMMARY:CEPS vs. DEV HOOPS
DESCRIPTION:DEV HOOPS vs. CEPSPlus d'info : #16
X-ALT-DESC;FMTTYPE=text/html:<!DOCTYPE HTML PUBLIC "-//W3C//DTD HTML 3.2//E
	N">\n<HTML>\n<HEAD>\n<TITLE></TITLE>\n</HEAD>\n<BODY>\n<h3>DEV HOOPS vs. CE
	PS</h3>Plus d'info : <a href="https://www.golnetwork.com/game/v/87665/">#16
	</a>\n\n</BODY>\n</HTML>
STATUS:CONFIRMED
CLASS:PUBLIC
URL:https://www.golnetwork.com/game/v/87665/
X-MICROSOFT-CDO-BUSYSTATUS:BUSY
X-MICROSOFT-CDO-IMPORTANCE:1
END:VEVENT
BEGIN:VEVENT
UID:g9069@games.golnetwork.com
LOCATION:CVM - Court #1
GEO:45.5146585;-73.5658635
CREATED:20160501T005605Z
DTSTART:20160525T013000Z
DTEND:20160525T023000Z
DTSTAMP:20260422T071547Z
SUMMARY:TOP GUNZ vs. DEV HOOPS
DESCRIPTION:DEV HOOPS vs. TOP GUNZPlus d'info : #11
X-ALT-DESC;FMTTYPE=text/html:<!DOCTYPE HTML PUBLIC "-//W3C//DTD HTML 3.2//E
	N">\n<HTML>\n<HEAD>\n<TITLE></TITLE>\n</HEAD>\n<BODY>\n<h3>DEV HOOPS vs. TO
	P GUNZ</h3>Plus d'info : <a href="https://www.golnetwork.com/game/v/87660/"
	>#11</a>\n\n</BODY>\n</HTML>
STATUS:CONFIRMED
CLASS:PUBLIC
URL:https://www.golnetwork.com/game/v/87660/
X-MICROSOFT-CDO-BUSYSTATUS:BUSY
X-MICROSOFT-CDO-IMPORTANCE:1
END:VEVENT
BEGIN:VEVENT
UID:g9063@games.golnetwork.com
LOCATION:CVM - Court #1
GEO:45.5146585;-73.5658635
CREATED:20160501T005605Z
DTSTART:20160518T014000Z
DTEND:20160518T024000Z
DTSTAMP:20260422T071547Z
SUMMARY:DEV HOOPS vs. ONYX
DESCRIPTION:ONYX vs. DEV HOOPSPlus d'info : #8
X-ALT-DESC;FMTTYPE=text/html:<!DOCTYPE HTML PUBLIC "-//W3C//DTD HTML 3.2//E
	N">\n<HTML>\n<HEAD>\n<TITLE></TITLE>\n</HEAD>\n<BODY>\n<h3>ONYX vs. DEV HOO
	PS</h3>Plus d'info : <a href="https://www.golnetwork.com/game/v/87657/">#8<
	/a>\n\n</BODY>\n</HTML>
STATUS:CONFIRMED
CLASS:PUBLIC
URL:https://www.golnetwork.com/game/v/87657/
X-MICROSOFT-CDO-BUSYSTATUS:BUSY
X-MICROSOFT-CDO-IMPORTANCE:1
END:VEVENT
BEGIN:VEVENT
UID:g905o@games.golnetwork.com
LOCATION:CVM - Court #1
GEO:45.5146585;-73.5658635
CREATED:20160501T005605Z
DTSTART:20160511T233000Z
DTEND:20160512T003000Z
DTSTAMP:20260422T071547Z
SUMMARY:DEV HOOPS vs. GENDRON
DESCRIPTION:GENDRON vs. DEV HOOPSPlus d'info : #1
X-ALT-DESC;FMTTYPE=text/html:<!DOCTYPE HTML PUBLIC "-//W3C//DTD HTML 3.2//E
	N">\n<HTML>\n<HEAD>\n<TITLE></TITLE>\n</HEAD>\n<BODY>\n<h3>GENDRON vs. DEV 
	HOOPS</h3>Plus d'info : <a href="https://www.golnetwork.com/game/v/87654/">
	#1</a>\n\n</BODY>\n</HTML>
STATUS:CONFIRMED
CLASS:PUBLIC
URL:https://www.golnetwork.com/game/v/87654/
X-MICROSOFT-CDO-BUSYSTATUS:BUSY
X-MICROSOFT-CDO-IMPORTANCE:1
END:VEVENT
END:VCALENDAR
