BEGIN:VCALENDAR
PRODID:-//gdesolutions.com//MV Framework 1.0.0.1607 Calendar//EN
VERSION:2.0
METHOD:PUBLISH
CALSCALE:GREGORIAN
BEGIN:VEVENT
UID:galgh@games.golnetwork.com
LOCATION:Marianopolis #1
GEO:45.4807868;-73.610845
CREATED:20170507T141150Z
DTSTART:20170823T001500Z
DTEND:20170823T011500Z
DTSTAMP:20260419T170604Z
SUMMARY:BLACK MAMBAS vs. DEMONS
DESCRIPTION:DEMONS vs. BLACK MAMBASPlus d'info : #298
X-ALT-DESC;FMTTYPE=text/html:<!DOCTYPE HTML PUBLIC "-//W3C//DTD HTML 3.2//E
	N">\n<HTML>\n<HEAD>\n<TITLE></TITLE>\n</HEAD>\n<BODY>\n<h3>DEMONS vs. BLACK
	 MAMBAS</h3>Plus d'info : <a href="https://www.golnetwork.com/game/v/105295
	/">#298</a>\n\n</BODY>\n</HTML>
STATUS:CONFIRMED
CLASS:PUBLIC
URL:https://www.golnetwork.com/game/v/105295/
X-MICROSOFT-CDO-BUSYSTATUS:BUSY
X-MICROSOFT-CDO-IMPORTANCE:1
END:VEVENT
BEGIN:VEVENT
UID:galh4@games.golnetwork.com
LOCATION:CVM - Court #1
GEO:45.5146585;-73.5658635
CREATED:20170507T141150Z
DTSTART:20170817T233000Z
DTEND:20170818T003000Z
DTSTAMP:20260419T170604Z
SUMMARY:BALL BUSTERS vs. DEMONS
DESCRIPTION:DEMONS vs. BALL BUSTERSPlus d'info : #286
X-ALT-DESC;FMTTYPE=text/html:<!DOCTYPE HTML PUBLIC "-//W3C//DTD HTML 3.2//E
	N">\n<HTML>\n<HEAD>\n<TITLE></TITLE>\n</HEAD>\n<BODY>\n<h3>DEMONS vs. BALL 
	BUSTERS</h3>Plus d'info : <a href="https://www.golnetwork.com/game/v/105302
	/">#286</a>\n\n</BODY>\n</HTML>
STATUS:CONFIRMED
CLASS:PUBLIC
URL:https://www.golnetwork.com/game/v/105302/
X-MICROSOFT-CDO-BUSYSTATUS:BUSY
X-MICROSOFT-CDO-IMPORTANCE:1
END:VEVENT
BEGIN:VEVENT
UID:galfq@games.golnetwork.com
LOCATION:CVM - Court #1
GEO:45.5146585;-73.5658635
CREATED:20170507T141150Z
DTSTART:20170815T233000Z
DTEND:20170816T003000Z
DTSTAMP:20260419T170604Z
SUMMARY:PAX TOWN vs. DEMONS
DESCRIPTION:DEMONS vs. PAX TOWNPlus d'info : #273
X-ALT-DESC;FMTTYPE=text/html:<!DOCTYPE HTML PUBLIC "-//W3C//DTD HTML 3.2//E
	N">\n<HTML>\n<HEAD>\n<TITLE></TITLE>\n</HEAD>\n<BODY>\n<h3>DEMONS vs. PAX T
	OWN</h3>Plus d'info : <a href="https://www.golnetwork.com/game/v/105286/">#
	273</a>\n\n</BODY>\n</HTML>
STATUS:CONFIRMED
CLASS:PUBLIC
URL:https://www.golnetwork.com/game/v/105286/
X-MICROSOFT-CDO-BUSYSTATUS:BUSY
X-MICROSOFT-CDO-IMPORTANCE:1
END:VEVENT
BEGIN:VEVENT
UID:gal9c@games.golnetwork.com
LOCATION:Marianopolis #1
GEO:45.4807868;-73.610845
CREATED:20170507T141150Z
DTSTART:20170810T233000Z
DTEND:20170811T003000Z
DTSTAMP:20260419T170604Z
SUMMARY:DEMONS vs. D BLOCK
DESCRIPTION:D BLOCK vs. DEMONSPlus d'info : #260
X-ALT-DESC;FMTTYPE=text/html:<!DOCTYPE HTML PUBLIC "-//W3C//DTD HTML 3.2//E
	N">\n<HTML>\n<HEAD>\n<TITLE></TITLE>\n</HEAD>\n<BODY>\n<h3>D BLOCK vs. DEMO
	NS</h3>Plus d'info : <a href="https://www.golnetwork.com/game/v/105198/">#2
	60</a>\n\n</BODY>\n</HTML>
STATUS:CONFIRMED
CLASS:PUBLIC
URL:https://www.golnetwork.com/game/v/105198/
X-MICROSOFT-CDO-BUSYSTATUS:BUSY
X-MICROSOFT-CDO-IMPORTANCE:1
END:VEVENT
BEGIN:VEVENT
UID:galfk@games.golnetwork.com
LOCATION:Marianopolis #1
GEO:45.4807868;-73.610845
CREATED:20170507T141150Z
DTSTART:20170808T223000Z
DTEND:20170808T233000Z
DTSTAMP:20260419T170604Z
SUMMARY:DEMONS vs. PAX TOWN
DESCRIPTION:PAX TOWN vs. DEMONSPlus d'info : #243
X-ALT-DESC;FMTTYPE=text/html:<!DOCTYPE HTML PUBLIC "-//W3C//DTD HTML 3.2//E
	N">\n<HTML>\n<HEAD>\n<TITLE></TITLE>\n</HEAD>\n<BODY>\n<h3>PAX TOWN vs. DEM
	ONS</h3>Plus d'info : <a href="https://www.golnetwork.com/game/v/105283/">#
	243</a>\n\n</BODY>\n</HTML>
STATUS:CONFIRMED
CLASS:PUBLIC
URL:https://www.golnetwork.com/game/v/105283/
X-MICROSOFT-CDO-BUSYSTATUS:BUSY
X-MICROSOFT-CDO-IMPORTANCE:1
END:VEVENT
BEGIN:VEVENT
UID:galf8@games.golnetwork.com
LOCATION:Marianopolis #1
GEO:45.4807868;-73.610845
CREATED:20170507T141150Z
DTSTART:20170801T233000Z
DTEND:20170802T003000Z
DTSTAMP:20260419T170604Z
SUMMARY:DEMONS vs. BLACK MAMBAS
DESCRIPTION:BLACK MAMBAS vs. DEMONSPlus d'info : #221
X-ALT-DESC;FMTTYPE=text/html:<!DOCTYPE HTML PUBLIC "-//W3C//DTD HTML 3.2//E
	N">\n<HTML>\n<HEAD>\n<TITLE></TITLE>\n</HEAD>\n<BODY>\n<h3>BLACK MAMBAS vs.
	 DEMONS</h3>Plus d'info : <a href="https://www.golnetwork.com/game/v/105277
	/">#221</a>\n\n</BODY>\n</HTML>
STATUS:CONFIRMED
CLASS:PUBLIC
URL:https://www.golnetwork.com/game/v/105277/
X-MICROSOFT-CDO-BUSYSTATUS:BUSY
X-MICROSOFT-CDO-IMPORTANCE:1
END:VEVENT
BEGIN:VEVENT
UID:galel@games.golnetwork.com
LOCATION:Marianopolis #1
GEO:45.4807868;-73.610845
CREATED:20170507T141150Z
DTSTART:20170728T003000Z
DTEND:20170728T013000Z
DTSTAMP:20260419T170604Z
SUMMARY:SPBP vs. DEMONS
DESCRIPTION:DEMONS vs. SPBPPlus d'info : #212
X-ALT-DESC;FMTTYPE=text/html:<!DOCTYPE HTML PUBLIC "-//W3C//DTD HTML 3.2//E
	N">\n<HTML>\n<HEAD>\n<TITLE></TITLE>\n</HEAD>\n<BODY>\n<h3>DEMONS vs. SPBP<
	/h3>Plus d'info : <a href="https://www.golnetwork.com/game/v/105270/">#212<
	/a>\n\n</BODY>\n</HTML>
STATUS:CONFIRMED
CLASS:PUBLIC
URL:https://www.golnetwork.com/game/v/105270/
X-MICROSOFT-CDO-BUSYSTATUS:BUSY
X-MICROSOFT-CDO-IMPORTANCE:1
END:VEVENT
BEGIN:VEVENT
UID:gale5@games.golnetwork.com
LOCATION:Marianopolis #1
GEO:45.4807868;-73.610845
CREATED:20170507T141150Z
DTSTART:20170721T013000Z
DTEND:20170721T023000Z
DTSTAMP:20260419T170604Z
SUMMARY:90s LEGENDS vs. DEMONS
DESCRIPTION:DEMONS vs. 90s LEGENDSPlus d'info : #193
X-ALT-DESC;FMTTYPE=text/html:<!DOCTYPE HTML PUBLIC "-//W3C//DTD HTML 3.2//E
	N">\n<HTML>\n<HEAD>\n<TITLE></TITLE>\n</HEAD>\n<BODY>\n<h3>DEMONS vs. 90s L
	EGENDS</h3>Plus d'info : <a href="https://www.golnetwork.com/game/v/105262/
	">#193</a>\n\n</BODY>\n</HTML>
STATUS:CONFIRMED
CLASS:PUBLIC
URL:https://www.golnetwork.com/game/v/105262/
X-MICROSOFT-CDO-BUSYSTATUS:BUSY
X-MICROSOFT-CDO-IMPORTANCE:1
END:VEVENT
BEGIN:VEVENT
UID:galdg@games.golnetwork.com
LOCATION:Marianopolis #1
GEO:45.4807868;-73.610845
CREATED:20170507T141150Z
DTSTART:20170713T233000Z
DTEND:20170714T003000Z
DTSTAMP:20260419T170604Z
SUMMARY:WEIS-HEITNER vs. DEMONS
DESCRIPTION:DEMONS vs. WEIS-HEITNERPlus d'info : #166
X-ALT-DESC;FMTTYPE=text/html:<!DOCTYPE HTML PUBLIC "-//W3C//DTD HTML 3.2//E
	N">\n<HTML>\n<HEAD>\n<TITLE></TITLE>\n</HEAD>\n<BODY>\n<h3>DEMONS vs. WEIS-
	HEITNER</h3>Plus d'info : <a href="https://www.golnetwork.com/game/v/105254
	/">#166</a>\n\n</BODY>\n</HTML>
STATUS:CONFIRMED
CLASS:PUBLIC
URL:https://www.golnetwork.com/game/v/105254/
X-MICROSOFT-CDO-BUSYSTATUS:BUSY
X-MICROSOFT-CDO-IMPORTANCE:1
END:VEVENT
BEGIN:VEVENT
UID:gald0@games.golnetwork.com
LOCATION:CVM - Court #1
GEO:45.5146585;-73.5658635
CREATED:20170507T141150Z
DTSTART:20170704T233000Z
DTEND:20170705T003000Z
DTSTAMP:20260419T170604Z
SUMMARY:NEUBARTH vs. DEMONS
DESCRIPTION:DEMONS vs. NEUBARTHPlus d'info : #129
X-ALT-DESC;FMTTYPE=text/html:<!DOCTYPE HTML PUBLIC "-//W3C//DTD HTML 3.2//E
	N">\n<HTML>\n<HEAD>\n<TITLE></TITLE>\n</HEAD>\n<BODY>\n<h3>DEMONS vs. NEUBA
	RTH</h3>Plus d'info : <a href="https://www.golnetwork.com/game/v/105246/">#
	129</a>\n\n</BODY>\n</HTML>
STATUS:CONFIRMED
CLASS:PUBLIC
URL:https://www.golnetwork.com/game/v/105246/
X-MICROSOFT-CDO-BUSYSTATUS:BUSY
X-MICROSOFT-CDO-IMPORTANCE:1
END:VEVENT
BEGIN:VEVENT
UID:galcb@games.golnetwork.com
LOCATION:CVM - Court #1
GEO:45.5146585;-73.5658635
CREATED:20170507T141150Z
DTSTART:20170627T233000Z
DTEND:20170628T003000Z
DTSTAMP:20260419T170604Z
SUMMARY:DADOLLE 2 vs. DEMONS
DESCRIPTION:DEMONS vs. DADOLLE 2Plus d'info : #107
X-ALT-DESC;FMTTYPE=text/html:<!DOCTYPE HTML PUBLIC "-//W3C//DTD HTML 3.2//E
	N">\n<HTML>\n<HEAD>\n<TITLE></TITLE>\n</HEAD>\n<BODY>\n<h3>DEMONS vs. DADOL
	LE 2</h3>Plus d'info : <a href="https://www.golnetwork.com/game/v/105238/">
	#107</a>\n\n</BODY>\n</HTML>
STATUS:CONFIRMED
CLASS:PUBLIC
URL:https://www.golnetwork.com/game/v/105238/
X-MICROSOFT-CDO-BUSYSTATUS:BUSY
X-MICROSOFT-CDO-IMPORTANCE:1
END:VEVENT
BEGIN:VEVENT
UID:galbm@games.golnetwork.com
LOCATION:Marianopolis #1
GEO:45.4807868;-73.610845
CREATED:20170507T141150Z
DTSTART:20170620T233000Z
DTEND:20170621T003000Z
DTSTAMP:20260419T170604Z
SUMMARY:ASTROFUSEES vs. DEMONS
DESCRIPTION:DEMONS vs. ASTROFUSEESPlus d'info : #83
X-ALT-DESC;FMTTYPE=text/html:<!DOCTYPE HTML PUBLIC "-//W3C//DTD HTML 3.2//E
	N">\n<HTML>\n<HEAD>\n<TITLE></TITLE>\n</HEAD>\n<BODY>\n<h3>DEMONS vs. ASTRO
	FUSEES</h3>Plus d'info : <a href="https://www.golnetwork.com/game/v/105230/
	">#83</a>\n\n</BODY>\n</HTML>
STATUS:CONFIRMED
CLASS:PUBLIC
URL:https://www.golnetwork.com/game/v/105230/
X-MICROSOFT-CDO-BUSYSTATUS:BUSY
X-MICROSOFT-CDO-IMPORTANCE:1
END:VEVENT
BEGIN:VEVENT
UID:galb6@games.golnetwork.com
LOCATION:Marianopolis #1
GEO:45.4807868;-73.610845
CREATED:20170507T141150Z
DTSTART:20170614T013000Z
DTEND:20170614T023000Z
DTSTAMP:20260419T170604Z
SUMMARY:DO OR DIE vs. DEMONS
DESCRIPTION:DEMONS vs. DO OR DIEPlus d'info : #71
X-ALT-DESC;FMTTYPE=text/html:<!DOCTYPE HTML PUBLIC "-//W3C//DTD HTML 3.2//E
	N">\n<HTML>\n<HEAD>\n<TITLE></TITLE>\n</HEAD>\n<BODY>\n<h3>DEMONS vs. DO OR
	 DIE</h3>Plus d'info : <a href="https://www.golnetwork.com/game/v/105222/">
	#71</a>\n\n</BODY>\n</HTML>
STATUS:CONFIRMED
CLASS:PUBLIC
URL:https://www.golnetwork.com/game/v/105222/
X-MICROSOFT-CDO-BUSYSTATUS:BUSY
X-MICROSOFT-CDO-IMPORTANCE:1
END:VEVENT
BEGIN:VEVENT
UID:galal@games.golnetwork.com
LOCATION:CVM - Court #1
GEO:45.5146585;-73.5658635
CREATED:20170507T141150Z
DTSTART:20170606T233000Z
DTEND:20170607T003000Z
DTSTAMP:20260419T170604Z
SUMMARY:DEMONS vs. PIPPEN AINT EASY
DESCRIPTION:PIPPEN AINT EASY vs. DEMONSPlus d'info : #40
X-ALT-DESC;FMTTYPE=text/html:<!DOCTYPE HTML PUBLIC "-//W3C//DTD HTML 3.2//E
	N">\n<HTML>\n<HEAD>\n<TITLE></TITLE>\n</HEAD>\n<BODY>\n<h3>PIPPEN AINT EASY
	 vs. DEMONS</h3>Plus d'info : <a href="https://www.golnetwork.com/game/v/10
	5216/">#40</a>\n\n</BODY>\n</HTML>
STATUS:CONFIRMED
CLASS:PUBLIC
URL:https://www.golnetwork.com/game/v/105216/
X-MICROSOFT-CDO-BUSYSTATUS:BUSY
X-MICROSOFT-CDO-IMPORTANCE:1
END:VEVENT
BEGIN:VEVENT
UID:gala9@games.golnetwork.com
LOCATION:Marianopolis #1
GEO:45.4807868;-73.610845
CREATED:20170507T141150Z
DTSTART:20170530T233000Z
DTEND:20170531T003000Z
DTSTAMP:20260419T170604Z
SUMMARY:DEMONS vs. BALL BUSTERS
DESCRIPTION:BALL BUSTERS vs. DEMONSPlus d'info : #19
X-ALT-DESC;FMTTYPE=text/html:<!DOCTYPE HTML PUBLIC "-//W3C//DTD HTML 3.2//E
	N">\n<HTML>\n<HEAD>\n<TITLE></TITLE>\n</HEAD>\n<BODY>\n<h3>BALL BUSTERS vs.
	 DEMONS</h3>Plus d'info : <a href="https://www.golnetwork.com/game/v/105210
	/">#19</a>\n\n</BODY>\n</HTML>
STATUS:CONFIRMED
CLASS:PUBLIC
URL:https://www.golnetwork.com/game/v/105210/
X-MICROSOFT-CDO-BUSYSTATUS:BUSY
X-MICROSOFT-CDO-IMPORTANCE:1
END:VEVENT
BEGIN:VEVENT
UID:gal9o@games.golnetwork.com
LOCATION:CVM - Court #1
GEO:45.5146585;-73.5658635
CREATED:20170507T141150Z
DTSTART:20170524T013000Z
DTEND:20170524T023000Z
DTSTAMP:20260419T170604Z
SUMMARY:DEMONS vs. THE PROCESS
DESCRIPTION:THE PROCESS vs. DEMONSPlus d'info : #9
X-ALT-DESC;FMTTYPE=text/html:<!DOCTYPE HTML PUBLIC "-//W3C//DTD HTML 3.2//E
	N">\n<HTML>\n<HEAD>\n<TITLE></TITLE>\n</HEAD>\n<BODY>\n<h3>THE PROCESS vs. 
	DEMONS</h3>Plus d'info : <a href="https://www.golnetwork.com/game/v/105204/
	">#9</a>\n\n</BODY>\n</HTML>
STATUS:CONFIRMED
CLASS:PUBLIC
URL:https://www.golnetwork.com/game/v/105204/
X-MICROSOFT-CDO-BUSYSTATUS:BUSY
X-MICROSOFT-CDO-IMPORTANCE:1
END:VEVENT
END:VCALENDAR
