BEGIN:VCALENDAR
PRODID:-//gdesolutions.com//MV Framework 1.0.0.1607 Calendar//EN
VERSION:2.0
METHOD:PUBLISH
CALSCALE:GREGORIAN
BEGIN:VEVENT
UID:g9ah0@games.golnetwork.com
LOCATION:Louis Riel #1
GEO:45.4410208;-75.5715394
CREATED:20160815T195130Z
DTSTART:20160819T000000Z
DTEND:20160819T013000Z
DTSTAMP:20260425T151829Z
SUMMARY:JFC vs. Grasshoppers
DESCRIPTION:Grasshoppers vs. JFCPlus d'info : #193
X-ALT-DESC;FMTTYPE=text/html:<!DOCTYPE HTML PUBLIC "-//W3C//DTD HTML 3.2//E
	N">\n<HTML>\n<HEAD>\n<TITLE></TITLE>\n</HEAD>\n<BODY>\n<h3>Grasshoppers vs.
	 JFC</h3>Plus d'info : <a href="https://www.golnetwork.com/game/v/91449/">#
	193</a>\n\n</BODY>\n</HTML>
STATUS:CONFIRMED
CLASS:PUBLIC
URL:https://www.golnetwork.com/game/v/91449/
X-MICROSOFT-CDO-BUSYSTATUS:BUSY
X-MICROSOFT-CDO-IMPORTANCE:1
END:VEVENT
BEGIN:VEVENT
UID:g9a5a@games.golnetwork.com
LOCATION:Louis Riel #1
GEO:45.4410208;-75.5715394
CREATED:20160808T173935Z
DTSTART:20160812T013000Z
DTEND:20160812T030000Z
DTSTAMP:20260425T151829Z
SUMMARY:Grasshoppers vs. Hammerheads
DESCRIPTION:Hammerheads vs. GrasshoppersPlus d'info : #180
X-ALT-DESC;FMTTYPE=text/html:<!DOCTYPE HTML PUBLIC "-//W3C//DTD HTML 3.2//E
	N">\n<HTML>\n<HEAD>\n<TITLE></TITLE>\n</HEAD>\n<BODY>\n<h3>Hammerheads vs. 
	Grasshoppers</h3>Plus d'info : <a href="https://www.golnetwork.com/game/v/9
	1292/">#180</a>\n\n</BODY>\n</HTML>
STATUS:CONFIRMED
CLASS:PUBLIC
URL:https://www.golnetwork.com/game/v/91292/
X-MICROSOFT-CDO-BUSYSTATUS:BUSY
X-MICROSOFT-CDO-IMPORTANCE:1
END:VEVENT
BEGIN:VEVENT
UID:g9902@games.golnetwork.com
LOCATION:Louis Riel #1
GEO:45.4410208;-75.5715394
CREATED:20160726T074923Z
DTSTART:20160728T223000Z
DTEND:20160729T000000Z
DTSTAMP:20260425T151829Z
SUMMARY:Grasshoppers vs. Foot Loose FC
DESCRIPTION:Foot Loose FC vs. GrasshoppersPlus d'info : #148
X-ALT-DESC;FMTTYPE=text/html:<!DOCTYPE HTML PUBLIC "-//W3C//DTD HTML 3.2//E
	N">\n<HTML>\n<HEAD>\n<TITLE></TITLE>\n</HEAD>\n<BODY>\n<h3>Foot Loose FC vs
	. Grasshoppers</h3>Plus d'info : <a href="https://www.golnetwork.com/game/v
	/90856/">#148</a>\n\n</BODY>\n</HTML>
STATUS:CONFIRMED
CLASS:PUBLIC
URL:https://www.golnetwork.com/game/v/90856/
X-MICROSOFT-CDO-BUSYSTATUS:BUSY
X-MICROSOFT-CDO-IMPORTANCE:1
END:VEVENT
END:VCALENDAR
