BEGIN:VCALENDAR
PRODID:-//gdesolutions.com//MV Framework 1.0.0.1607 Calendar//EN
VERSION:2.0
METHOD:PUBLISH
CALSCALE:GREGORIAN
BEGIN:VEVENT
UID:g9akh@games.golnetwork.com
LOCATION:Ben Franklin Dome Field 1
GEO:45.3235661;-75.7751222
CREATED:20160818T205358Z
DTSTART:20160821T223000Z
DTEND:20160822T000000Z
DTSTAMP:20260422T062803Z
SUMMARY:FoxRiver FC vs. AC Me Rollin'
DESCRIPTION:AC Me Rollin' vs. FoxRiver FCPlus d'info : #178
X-ALT-DESC;FMTTYPE=text/html:<!DOCTYPE HTML PUBLIC "-//W3C//DTD HTML 3.2//E
	N">\n<HTML>\n<HEAD>\n<TITLE></TITLE>\n</HEAD>\n<BODY>\n<h3>AC Me Rollin' vs
	. FoxRiver FC</h3>Plus d'info : <a href="https://www.golnetwork.com/game/v/
	91498/">#178</a>\n\n</BODY>\n</HTML>
STATUS:CONFIRMED
CLASS:PUBLIC
URL:https://www.golnetwork.com/game/v/91498/
X-MICROSOFT-CDO-BUSYSTATUS:BUSY
X-MICROSOFT-CDO-IMPORTANCE:1
END:VEVENT
BEGIN:VEVENT
UID:g9abi@games.golnetwork.com
LOCATION:Craig Henry Park West 3
GEO:45.10662;-94.578209
CREATED:20160811T064437Z
DTSTART:20160814T221500Z
DTEND:20160814T234500Z
DTSTAMP:20260422T062803Z
SUMMARY:GD United vs. AC Me Rollin'
DESCRIPTION:AC Me Rollin' vs. GD UnitedPlus d'info : #165
X-ALT-DESC;FMTTYPE=text/html:<!DOCTYPE HTML PUBLIC "-//W3C//DTD HTML 3.2//E
	N">\n<HTML>\n<HEAD>\n<TITLE></TITLE>\n</HEAD>\n<BODY>\n<h3>AC Me Rollin' vs
	. GD United</h3>Plus d'info : <a href="https://www.golnetwork.com/game/v/91
	377/">#165</a>\n\n</BODY>\n</HTML>
STATUS:CONFIRMED
CLASS:PUBLIC
URL:https://www.golnetwork.com/game/v/91377/
X-MICROSOFT-CDO-BUSYSTATUS:BUSY
X-MICROSOFT-CDO-IMPORTANCE:1
END:VEVENT
END:VCALENDAR
