BEGIN:VCALENDAR
PRODID:-//gdesolutions.com//MV Framework 1.0.0.1607 Calendar//EN
VERSION:2.0
METHOD:PUBLISH
CALSCALE:GREGORIAN
BEGIN:VEVENT
UID:g924l@games.golnetwork.com
LOCATION:Bloor CI
CREATED:20160518T164124Z
DTSTART:20160626T220000Z
DTEND:20160626T230000Z
DTSTAMP:20260423T195436Z
SUMMARY:LBFC 1873 II vs. Rotman'15 Soccer
DESCRIPTION:Rotman'15 Soccer vs. LBFC 1873 IIPlus d'info : #103
X-ALT-DESC;FMTTYPE=text/html:<!DOCTYPE HTML PUBLIC "-//W3C//DTD HTML 3.2//E
	N">\n<HTML>\n<HEAD>\n<TITLE></TITLE>\n</HEAD>\n<BODY>\n<h3>Rotman'15 Soccer
	 vs. LBFC 1873 II</h3>Plus d'info : <a href="https://www.golnetwork.com/gam
	e/v/88368/">#103</a>\n\n</BODY>\n</HTML>
STATUS:CONFIRMED
CLASS:PUBLIC
URL:https://www.golnetwork.com/game/v/88368/
X-MICROSOFT-CDO-BUSYSTATUS:BUSY
X-MICROSOFT-CDO-IMPORTANCE:1
END:VEVENT
END:VCALENDAR
