BEGIN:VCALENDAR
PRODID:-//gdesolutions.com//MV Framework 1.0.0.1607 Calendar//EN
VERSION:2.0
METHOD:PUBLISH
CALSCALE:GREGORIAN
BEGIN:VEVENT
UID:g920l@games.golnetwork.com
LOCATION:Queen Alexandra
GEO:43.6614029;-79.3508884
CREATED:20160516T180924Z
DTSTART:20160627T220000Z
DTEND:20160627T230000Z
DTSTAMP:20260420T011634Z
SUMMARY:STFU vs. Killtrocity FC
DESCRIPTION:Killtrocity FC vs. STFUPlus d'info : #104
X-ALT-DESC;FMTTYPE=text/html:<!DOCTYPE HTML PUBLIC "-//W3C//DTD HTML 3.2//E
	N">\n<HTML>\n<HEAD>\n<TITLE></TITLE>\n</HEAD>\n<BODY>\n<h3>Killtrocity FC v
	s. STFU</h3>Plus d'info : <a href="https://www.golnetwork.com/game/v/88314/
	">#104</a>\n\n</BODY>\n</HTML>
STATUS:CONFIRMED
CLASS:PUBLIC
URL:https://www.golnetwork.com/game/v/88314/
X-MICROSOFT-CDO-BUSYSTATUS:BUSY
X-MICROSOFT-CDO-IMPORTANCE:1
END:VEVENT
BEGIN:VEVENT
UID:g920h@games.golnetwork.com
LOCATION:Earl Grey PS Field
GEO:45.10662;-94.578209
CREATED:20160516T180904Z
DTSTART:20160620T230000Z
DTEND:20160621T000000Z
DTSTAMP:20260420T011634Z
SUMMARY:Synaptive Brainiacs vs. Killtrocity FC
DESCRIPTION:Killtrocity FC vs. Synaptive BrainiacsPlus d'info : #100
X-ALT-DESC;FMTTYPE=text/html:<!DOCTYPE HTML PUBLIC "-//W3C//DTD HTML 3.2//E
	N">\n<HTML>\n<HEAD>\n<TITLE></TITLE>\n</HEAD>\n<BODY>\n<h3>Killtrocity FC v
	s. Synaptive Brainiacs</h3>Plus d'info : <a href="https://www.golnetwork.co
	m/game/v/88312/">#100</a>\n\n</BODY>\n</HTML>
STATUS:CONFIRMED
CLASS:PUBLIC
URL:https://www.golnetwork.com/game/v/88312/
X-MICROSOFT-CDO-BUSYSTATUS:BUSY
X-MICROSOFT-CDO-IMPORTANCE:1
END:VEVENT
BEGIN:VEVENT
UID:g920f@games.golnetwork.com
LOCATION:Earl Grey PS Field
GEO:45.10662;-94.578209
CREATED:20160516T180852Z
DTSTART:20160620T220000Z
DTEND:20160620T230000Z
DTSTAMP:20260420T011634Z
SUMMARY:Akelius vs. Killtrocity FC
DESCRIPTION:Killtrocity FC vs. AkeliusPlus d'info : #99
X-ALT-DESC;FMTTYPE=text/html:<!DOCTYPE HTML PUBLIC "-//W3C//DTD HTML 3.2//E
	N">\n<HTML>\n<HEAD>\n<TITLE></TITLE>\n</HEAD>\n<BODY>\n<h3>Killtrocity FC v
	s. Akelius</h3>Plus d'info : <a href="https://www.golnetwork.com/game/v/883
	11/">#99</a>\n\n</BODY>\n</HTML>
STATUS:CONFIRMED
CLASS:PUBLIC
URL:https://www.golnetwork.com/game/v/88311/
X-MICROSOFT-CDO-BUSYSTATUS:BUSY
X-MICROSOFT-CDO-IMPORTANCE:1
END:VEVENT
BEGIN:VEVENT
UID:g9209@games.golnetwork.com
LOCATION:Queen Alexandra
GEO:43.6614029;-79.3508884
CREATED:20160516T180823Z
DTSTART:20160606T220000Z
DTEND:20160606T230000Z
DTSTAMP:20260420T011634Z
SUMMARY:Killtrocity FC vs. STFU
DESCRIPTION:STFU vs. Killtrocity FCPlus d'info : #84
X-ALT-DESC;FMTTYPE=text/html:<!DOCTYPE HTML PUBLIC "-//W3C//DTD HTML 3.2//E
	N">\n<HTML>\n<HEAD>\n<TITLE></TITLE>\n</HEAD>\n<BODY>\n<h3>STFU vs. Killtro
	city FC</h3>Plus d'info : <a href="https://www.golnetwork.com/game/v/88308/
	">#84</a>\n\n</BODY>\n</HTML>
STATUS:CONFIRMED
CLASS:PUBLIC
URL:https://www.golnetwork.com/game/v/88308/
X-MICROSOFT-CDO-BUSYSTATUS:BUSY
X-MICROSOFT-CDO-IMPORTANCE:1
END:VEVENT
BEGIN:VEVENT
UID:g9205@games.golnetwork.com
LOCATION:Queen Alexandra
GEO:43.6614029;-79.3508884
CREATED:20160516T180749Z
DTSTART:20160530T230000Z
DTEND:20160531T000000Z
DTSTAMP:20260420T011634Z
SUMMARY:Killtrocity FC vs. MuchoFucho FC
DESCRIPTION:MuchoFucho FC vs. Killtrocity FCPlus d'info : #77
X-ALT-DESC;FMTTYPE=text/html:<!DOCTYPE HTML PUBLIC "-//W3C//DTD HTML 3.2//E
	N">\n<HTML>\n<HEAD>\n<TITLE></TITLE>\n</HEAD>\n<BODY>\n<h3>MuchoFucho FC vs
	. Killtrocity FC</h3>Plus d'info : <a href="https://www.golnetwork.com/game
	/v/88306/">#77</a>\n\n</BODY>\n</HTML>
STATUS:CONFIRMED
CLASS:PUBLIC
URL:https://www.golnetwork.com/game/v/88306/
X-MICROSOFT-CDO-BUSYSTATUS:BUSY
X-MICROSOFT-CDO-IMPORTANCE:1
END:VEVENT
BEGIN:VEVENT
UID:g91qo@games.golnetwork.com
LOCATION:Queen Alexandra
GEO:43.6614029;-79.3508884
CREATED:20160516T180709Z
DTSTART:20160523T220000Z
DTEND:20160523T230000Z
DTSTAMP:20260420T011634Z
SUMMARY:Killtrocity FC vs. Akelius
DESCRIPTION:Akelius vs. Killtrocity FCPlus d'info : #68
X-ALT-DESC;FMTTYPE=text/html:<!DOCTYPE HTML PUBLIC "-//W3C//DTD HTML 3.2//E
	N">\n<HTML>\n<HEAD>\n<TITLE></TITLE>\n</HEAD>\n<BODY>\n<h3>Akelius vs. Kill
	trocity FC</h3>Plus d'info : <a href="https://www.golnetwork.com/game/v/883
	02/">#68</a>\n\n</BODY>\n</HTML>
STATUS:CONFIRMED
CLASS:PUBLIC
URL:https://www.golnetwork.com/game/v/88302/
X-MICROSOFT-CDO-BUSYSTATUS:BUSY
X-MICROSOFT-CDO-IMPORTANCE:1
END:VEVENT
END:VCALENDAR
