BEGIN:VCALENDAR
PRODID:-//gdesolutions.com//MV Framework 1.0.0.1607 Calendar//EN
VERSION:2.0
METHOD:PUBLISH
CALSCALE:GREGORIAN
BEGIN:VEVENT
UID:g99b9@games.golnetwork.com
LOCATION:North Toronto - Field 2
GEO:43.7098022;-79.3963055
CREATED:20160802T155536Z
DTSTART:20161009T200000Z
DTEND:20161009T210000Z
DTSTAMP:20260421T065701Z
SUMMARY:XTSC Force vs. XTSC Dreamers
DESCRIPTION:XTSC Dreamers vs. XTSC ForcePlus d'info : #657
X-ALT-DESC;FMTTYPE=text/html:<!DOCTYPE HTML PUBLIC "-//W3C//DTD HTML 3.2//E
	N">\n<HTML>\n<HEAD>\n<TITLE></TITLE>\n</HEAD>\n<BODY>\n<h3>XTSC Dreamers vs
	. XTSC Force</h3>Plus d'info : <a href="https://www.golnetwork.com/game/v/9
	1008/">#657</a>\n\n</BODY>\n</HTML>
STATUS:CONFIRMED
CLASS:PUBLIC
URL:https://www.golnetwork.com/game/v/91008/
X-MICROSOFT-CDO-BUSYSTATUS:BUSY
X-MICROSOFT-CDO-IMPORTANCE:1
END:VEVENT
BEGIN:VEVENT
UID:g99b5@games.golnetwork.com
LOCATION:North Toronto - Field 2
GEO:43.7098022;-79.3963055
CREATED:20160802T155536Z
DTSTART:20160925T200000Z
DTEND:20160925T210000Z
DTSTAMP:20260421T065701Z
SUMMARY:XTSC Force vs. XTSC Dreamers
DESCRIPTION:XTSC Dreamers vs. XTSC ForcePlus d'info : #558
X-ALT-DESC;FMTTYPE=text/html:<!DOCTYPE HTML PUBLIC "-//W3C//DTD HTML 3.2//E
	N">\n<HTML>\n<HEAD>\n<TITLE></TITLE>\n</HEAD>\n<BODY>\n<h3>XTSC Dreamers vs
	. XTSC Force</h3>Plus d'info : <a href="https://www.golnetwork.com/game/v/9
	1006/">#558</a>\n\n</BODY>\n</HTML>
STATUS:CONFIRMED
CLASS:PUBLIC
URL:https://www.golnetwork.com/game/v/91006/
X-MICROSOFT-CDO-BUSYSTATUS:BUSY
X-MICROSOFT-CDO-IMPORTANCE:1
END:VEVENT
BEGIN:VEVENT
UID:g99b3@games.golnetwork.com
LOCATION:North Toronto - Field 2
GEO:43.7098022;-79.3963055
CREATED:20160802T155536Z
DTSTART:20160918T200000Z
DTEND:20160918T210000Z
DTSTAMP:20260421T065701Z
SUMMARY:XTSC Dreamers vs. Sacks N Sass United
DESCRIPTION:Sacks N Sass United vs. XTSC DreamersPlus d'info : #503
X-ALT-DESC;FMTTYPE=text/html:<!DOCTYPE HTML PUBLIC "-//W3C//DTD HTML 3.2//E
	N">\n<HTML>\n<HEAD>\n<TITLE></TITLE>\n</HEAD>\n<BODY>\n<h3>Sacks N Sass Uni
	ted vs. XTSC Dreamers</h3>Plus d'info : <a href="https://www.golnetwork.com
	/game/v/91005/">#503</a>\n\n</BODY>\n</HTML>
STATUS:CONFIRMED
CLASS:PUBLIC
URL:https://www.golnetwork.com/game/v/91005/
X-MICROSOFT-CDO-BUSYSTATUS:BUSY
X-MICROSOFT-CDO-IMPORTANCE:1
END:VEVENT
BEGIN:VEVENT
UID:g99aq@games.golnetwork.com
LOCATION:North Toronto - Field 2
GEO:43.7098022;-79.3963055
CREATED:20160802T155536Z
DTSTART:20160911T210000Z
DTEND:20160911T220000Z
DTSTAMP:20260421T065701Z
SUMMARY:XTSC Dreamers vs. XTSC Minions
DESCRIPTION:XTSC Minions vs. XTSC DreamersPlus d'info : #433
X-ALT-DESC;FMTTYPE=text/html:<!DOCTYPE HTML PUBLIC "-//W3C//DTD HTML 3.2//E
	N">\n<HTML>\n<HEAD>\n<TITLE></TITLE>\n</HEAD>\n<BODY>\n<h3>XTSC Minions vs.
	 XTSC Dreamers</h3>Plus d'info : <a href="https://www.golnetwork.com/game/v
	/91003/">#433</a>\n\n</BODY>\n</HTML>
STATUS:CONFIRMED
CLASS:PUBLIC
URL:https://www.golnetwork.com/game/v/91003/
X-MICROSOFT-CDO-BUSYSTATUS:BUSY
X-MICROSOFT-CDO-IMPORTANCE:1
END:VEVENT
BEGIN:VEVENT
UID:g99ak@games.golnetwork.com
LOCATION:North Toronto - Field 1
GEO:43.7098022;-79.3963055
CREATED:20160802T155536Z
DTSTART:20160828T190000Z
DTEND:20160828T200000Z
DTSTAMP:20260421T065701Z
SUMMARY:XTSC Force vs. XTSC Dreamers
DESCRIPTION:XTSC Dreamers vs. XTSC ForcePlus d'info : #306
X-ALT-DESC;FMTTYPE=text/html:<!DOCTYPE HTML PUBLIC "-//W3C//DTD HTML 3.2//E
	N">\n<HTML>\n<HEAD>\n<TITLE></TITLE>\n</HEAD>\n<BODY>\n<h3>XTSC Dreamers vs
	. XTSC Force</h3>Plus d'info : <a href="https://www.golnetwork.com/game/v/9
	1000/">#306</a>\n\n</BODY>\n</HTML>
STATUS:CONFIRMED
CLASS:PUBLIC
URL:https://www.golnetwork.com/game/v/91000/
X-MICROSOFT-CDO-BUSYSTATUS:BUSY
X-MICROSOFT-CDO-IMPORTANCE:1
END:VEVENT
BEGIN:VEVENT
UID:g99ag@games.golnetwork.com
LOCATION:North Toronto - Field 1
GEO:43.7098022;-79.3963055
CREATED:20160802T155536Z
DTSTART:20160821T230000Z
DTEND:20160822T000000Z
DTSTAMP:20260421T065701Z
SUMMARY:XTSC Minions vs. XTSC Dreamers
DESCRIPTION:XTSC Dreamers vs. XTSC MinionsPlus d'info : #238
X-ALT-DESC;FMTTYPE=text/html:<!DOCTYPE HTML PUBLIC "-//W3C//DTD HTML 3.2//E
	N">\n<HTML>\n<HEAD>\n<TITLE></TITLE>\n</HEAD>\n<BODY>\n<h3>XTSC Dreamers vs
	. XTSC Minions</h3>Plus d'info : <a href="https://www.golnetwork.com/game/v
	/90998/">#238</a>\n\n</BODY>\n</HTML>
STATUS:CONFIRMED
CLASS:PUBLIC
URL:https://www.golnetwork.com/game/v/90998/
X-MICROSOFT-CDO-BUSYSTATUS:BUSY
X-MICROSOFT-CDO-IMPORTANCE:1
END:VEVENT
BEGIN:VEVENT
UID:g99ae@games.golnetwork.com
LOCATION:North Toronto - Field 1
GEO:43.7098022;-79.3963055
CREATED:20160802T155536Z
DTSTART:20160814T190000Z
DTEND:20160814T200000Z
DTSTAMP:20260421T065701Z
SUMMARY:XTSC Dreamers vs. Sacks N Sass United
DESCRIPTION:Sacks N Sass United vs. XTSC DreamersPlus d'info : #158
X-ALT-DESC;FMTTYPE=text/html:<!DOCTYPE HTML PUBLIC "-//W3C//DTD HTML 3.2//E
	N">\n<HTML>\n<HEAD>\n<TITLE></TITLE>\n</HEAD>\n<BODY>\n<h3>Sacks N Sass Uni
	ted vs. XTSC Dreamers</h3>Plus d'info : <a href="https://www.golnetwork.com
	/game/v/90997/">#158</a>\n\n</BODY>\n</HTML>
STATUS:CONFIRMED
CLASS:PUBLIC
URL:https://www.golnetwork.com/game/v/90997/
X-MICROSOFT-CDO-BUSYSTATUS:BUSY
X-MICROSOFT-CDO-IMPORTANCE:1
END:VEVENT
BEGIN:VEVENT
UID:g99aa@games.golnetwork.com
LOCATION:North Toronto - Field 1
GEO:43.7098022;-79.3963055
CREATED:20160802T155536Z
DTSTART:20160807T220000Z
DTEND:20160807T230000Z
DTSTAMP:20260421T065701Z
SUMMARY:XTSC Force vs. XTSC Dreamers
DESCRIPTION:XTSC Dreamers vs. XTSC ForcePlus d'info : #116
X-ALT-DESC;FMTTYPE=text/html:<!DOCTYPE HTML PUBLIC "-//W3C//DTD HTML 3.2//E
	N">\n<HTML>\n<HEAD>\n<TITLE></TITLE>\n</HEAD>\n<BODY>\n<h3>XTSC Dreamers vs
	. XTSC Force</h3>Plus d'info : <a href="https://www.golnetwork.com/game/v/9
	0995/">#116</a>\n\n</BODY>\n</HTML>
STATUS:CONFIRMED
CLASS:PUBLIC
URL:https://www.golnetwork.com/game/v/90995/
X-MICROSOFT-CDO-BUSYSTATUS:BUSY
X-MICROSOFT-CDO-IMPORTANCE:1
END:VEVENT
END:VCALENDAR
