BEGIN:VCALENDAR
PRODID:-//gdesolutions.com//MV Framework 1.0.0.1607 Calendar//EN
VERSION:2.0
METHOD:PUBLISH
CALSCALE:GREGORIAN
BEGIN:VEVENT
UID:g9ah4@games.golnetwork.com
LOCATION:Lester B Pearson Field #3
GEO:45.4433016;-75.5957775
CREATED:20160815T195217Z
DTSTART:20160818T223000Z
DTEND:20160819T000000Z
DTSTAMP:20260420T021838Z
SUMMARY:Individuals 2 vs. Hammerheads
DESCRIPTION:Hammerheads vs. Individuals 2Plus d'info : #192
X-ALT-DESC;FMTTYPE=text/html:<!DOCTYPE HTML PUBLIC "-//W3C//DTD HTML 3.2//E
	N">\n<HTML>\n<HEAD>\n<TITLE></TITLE>\n</HEAD>\n<BODY>\n<h3>Hammerheads vs. 
	Individuals 2</h3>Plus d'info : <a href="https://www.golnetwork.com/game/v/
	91451/">#192</a>\n\n</BODY>\n</HTML>
STATUS:CONFIRMED
CLASS:PUBLIC
URL:https://www.golnetwork.com/game/v/91451/
X-MICROSOFT-CDO-BUSYSTATUS:BUSY
X-MICROSOFT-CDO-IMPORTANCE:1
END:VEVENT
BEGIN:VEVENT
UID:g9a5c@games.golnetwork.com
LOCATION:Louis Riel #3
GEO:45.4410208;-75.5715394
CREATED:20160808T173953Z
DTSTART:20160812T013000Z
DTEND:20160812T030000Z
DTSTAMP:20260420T021838Z
SUMMARY:Individuals 2 vs. JFC
DESCRIPTION:JFC vs. Individuals 2Plus d'info : #182
X-ALT-DESC;FMTTYPE=text/html:<!DOCTYPE HTML PUBLIC "-//W3C//DTD HTML 3.2//E
	N">\n<HTML>\n<HEAD>\n<TITLE></TITLE>\n</HEAD>\n<BODY>\n<h3>JFC vs. Individu
	als 2</h3>Plus d'info : <a href="https://www.golnetwork.com/game/v/91293/">
	#182</a>\n\n</BODY>\n</HTML>
STATUS:CONFIRMED
CLASS:PUBLIC
URL:https://www.golnetwork.com/game/v/91293/
X-MICROSOFT-CDO-BUSYSTATUS:BUSY
X-MICROSOFT-CDO-IMPORTANCE:1
END:VEVENT
BEGIN:VEVENT
UID:g9908@games.golnetwork.com
LOCATION:McCarthy Park Field #4
GEO:45.3518541;-75.6719009
CREATED:20160726T075057Z
DTSTART:20160804T224500Z
DTEND:20160805T001500Z
DTSTAMP:20260420T021838Z
SUMMARY:Hooligans United vs. Individuals 2
DESCRIPTION:Individuals 2 vs. Hooligans UnitedPlus d'info : #156
X-ALT-DESC;FMTTYPE=text/html:<!DOCTYPE HTML PUBLIC "-//W3C//DTD HTML 3.2//E
	N">\n<HTML>\n<HEAD>\n<TITLE></TITLE>\n</HEAD>\n<BODY>\n<h3>Individuals 2 vs
	. Hooligans United</h3>Plus d'info : <a href="https://www.golnetwork.com/ga
	me/v/90859/">#156</a>\n\n</BODY>\n</HTML>
STATUS:CONFIRMED
CLASS:PUBLIC
URL:https://www.golnetwork.com/game/v/90859/
X-MICROSOFT-CDO-BUSYSTATUS:BUSY
X-MICROSOFT-CDO-IMPORTANCE:1
END:VEVENT
END:VCALENDAR
