BEGIN:VCALENDAR
PRODID:-//gdesolutions.com//MV Framework 1.0.0.1607 Calendar//EN
VERSION:2.0
METHOD:PUBLISH
CALSCALE:GREGORIAN
BEGIN:VEVENT
UID:ga4mi@games.golnetwork.com
LOCATION:Central Tech - Field 2
GEO:43.6637272;-79.4087613
CREATED:20161228T202856Z
DTSTART:20170216T040000Z
DTEND:20170216T045000Z
DTSTAMP:20260420T071407Z
SUMMARY:RUN DFC vs. Hooligans
DESCRIPTION:Hooligans vs. RUN DFCPlus d'info : #410
X-ALT-DESC;FMTTYPE=text/html:<!DOCTYPE HTML PUBLIC "-//W3C//DTD HTML 3.2//E
	N">\n<HTML>\n<HEAD>\n<TITLE></TITLE>\n</HEAD>\n<BODY>\n<h3>Hooligans vs. RU
	N DFC</h3>Plus d'info : <a href="https://www.golnetwork.com/game/v/99180/">
	#410</a>\n\n</BODY>\n</HTML>
STATUS:CONFIRMED
CLASS:PUBLIC
URL:https://www.golnetwork.com/game/v/99180/
X-MICROSOFT-CDO-BUSYSTATUS:BUSY
X-MICROSOFT-CDO-IMPORTANCE:1
END:VEVENT
BEGIN:VEVENT
UID:ga4m8@games.golnetwork.com
LOCATION:Central Tech - Field 1
GEO:43.6637272;-79.4087613
CREATED:20161228T202753Z
DTSTART:20170209T000000Z
DTEND:20170209T005000Z
DTSTAMP:20260420T071407Z
SUMMARY:Massey College vs. Hooligans
DESCRIPTION:Hooligans vs. Massey CollegePlus d'info : #321
X-ALT-DESC;FMTTYPE=text/html:<!DOCTYPE HTML PUBLIC "-//W3C//DTD HTML 3.2//E
	N">\n<HTML>\n<HEAD>\n<TITLE></TITLE>\n</HEAD>\n<BODY>\n<h3>Hooligans vs. Ma
	ssey College</h3>Plus d'info : <a href="https://www.golnetwork.com/game/v/9
	9175/">#321</a>\n\n</BODY>\n</HTML>
STATUS:CONFIRMED
CLASS:PUBLIC
URL:https://www.golnetwork.com/game/v/99175/
X-MICROSOFT-CDO-BUSYSTATUS:BUSY
X-MICROSOFT-CDO-IMPORTANCE:1
END:VEVENT
BEGIN:VEVENT
UID:ga4m6@games.golnetwork.com
LOCATION:Central Tech - Field 1
GEO:43.6637272;-79.4087613
CREATED:20161228T202734Z
DTSTART:20170202T030000Z
DTEND:20170202T035000Z
DTSTAMP:20260420T071407Z
SUMMARY:The Cornballers vs. Hooligans
DESCRIPTION:Hooligans vs. The CornballersPlus d'info : #246
X-ALT-DESC;FMTTYPE=text/html:<!DOCTYPE HTML PUBLIC "-//W3C//DTD HTML 3.2//E
	N">\n<HTML>\n<HEAD>\n<TITLE></TITLE>\n</HEAD>\n<BODY>\n<h3>Hooligans vs. Th
	e Cornballers</h3>Plus d'info : <a href="https://www.golnetwork.com/game/v/
	99174/">#246</a>\n\n</BODY>\n</HTML>
STATUS:CONFIRMED
CLASS:PUBLIC
URL:https://www.golnetwork.com/game/v/99174/
X-MICROSOFT-CDO-BUSYSTATUS:BUSY
X-MICROSOFT-CDO-IMPORTANCE:1
END:VEVENT
BEGIN:VEVENT
UID:ga4lp@games.golnetwork.com
LOCATION:Central Tech - Field 1
GEO:43.6637272;-79.4087613
CREATED:20161228T202637Z
DTSTART:20170126T020000Z
DTEND:20170126T025000Z
DTSTAMP:20260420T071407Z
SUMMARY:Hooligans vs. BBG
DESCRIPTION:BBG vs. HooligansPlus d'info : #170
X-ALT-DESC;FMTTYPE=text/html:<!DOCTYPE HTML PUBLIC "-//W3C//DTD HTML 3.2//E
	N">\n<HTML>\n<HEAD>\n<TITLE></TITLE>\n</HEAD>\n<BODY>\n<h3>BBG vs. Hooligan
	s</h3>Plus d'info : <a href="https://www.golnetwork.com/game/v/99170/">#170
	</a>\n\n</BODY>\n</HTML>
STATUS:CONFIRMED
CLASS:PUBLIC
URL:https://www.golnetwork.com/game/v/99170/
X-MICROSOFT-CDO-BUSYSTATUS:BUSY
X-MICROSOFT-CDO-IMPORTANCE:1
END:VEVENT
BEGIN:VEVENT
UID:ga4lj@games.golnetwork.com
LOCATION:Central Tech - Field 2
GEO:43.6637272;-79.4087613
CREATED:20161228T202549Z
DTSTART:20170119T020000Z
DTEND:20170119T025000Z
DTSTAMP:20260420T071407Z
SUMMARY:Sapient FC vs. Hooligans
DESCRIPTION:Hooligans vs. Sapient FCPlus d'info : #119
X-ALT-DESC;FMTTYPE=text/html:<!DOCTYPE HTML PUBLIC "-//W3C//DTD HTML 3.2//E
	N">\n<HTML>\n<HEAD>\n<TITLE></TITLE>\n</HEAD>\n<BODY>\n<h3>Hooligans vs. Sa
	pient FC</h3>Plus d'info : <a href="https://www.golnetwork.com/game/v/99167
	/">#119</a>\n\n</BODY>\n</HTML>
STATUS:CONFIRMED
CLASS:PUBLIC
URL:https://www.golnetwork.com/game/v/99167/
X-MICROSOFT-CDO-BUSYSTATUS:BUSY
X-MICROSOFT-CDO-IMPORTANCE:1
END:VEVENT
BEGIN:VEVENT
UID:ga4lb@games.golnetwork.com
LOCATION:Central Tech - Field 1
GEO:43.6637272;-79.4087613
CREATED:20161228T202458Z
DTSTART:20170112T000000Z
DTEND:20170112T005000Z
DTSTAMP:20260420T071407Z
SUMMARY:RUN DFC vs. Hooligans
DESCRIPTION:Hooligans vs. RUN DFCPlus d'info : #65
X-ALT-DESC;FMTTYPE=text/html:<!DOCTYPE HTML PUBLIC "-//W3C//DTD HTML 3.2//E
	N">\n<HTML>\n<HEAD>\n<TITLE></TITLE>\n</HEAD>\n<BODY>\n<h3>Hooligans vs. RU
	N DFC</h3>Plus d'info : <a href="https://www.golnetwork.com/game/v/99163/">
	#65</a>\n\n</BODY>\n</HTML>
STATUS:CONFIRMED
CLASS:PUBLIC
URL:https://www.golnetwork.com/game/v/99163/
X-MICROSOFT-CDO-BUSYSTATUS:BUSY
X-MICROSOFT-CDO-IMPORTANCE:1
END:VEVENT
BEGIN:VEVENT
UID:ga4l5@games.golnetwork.com
LOCATION:Central Tech - Field 2
GEO:43.6637272;-79.4087613
CREATED:20161228T202415Z
DTSTART:20170105T010000Z
DTEND:20170105T015000Z
DTSTAMP:20260420T071407Z
SUMMARY:Massey College vs. Hooligans
DESCRIPTION:Hooligans vs. Massey CollegePlus d'info : #20
X-ALT-DESC;FMTTYPE=text/html:<!DOCTYPE HTML PUBLIC "-//W3C//DTD HTML 3.2//E
	N">\n<HTML>\n<HEAD>\n<TITLE></TITLE>\n</HEAD>\n<BODY>\n<h3>Hooligans vs. Ma
	ssey College</h3>Plus d'info : <a href="https://www.golnetwork.com/game/v/9
	9160/">#20</a>\n\n</BODY>\n</HTML>
STATUS:CONFIRMED
CLASS:PUBLIC
URL:https://www.golnetwork.com/game/v/99160/
X-MICROSOFT-CDO-BUSYSTATUS:BUSY
X-MICROSOFT-CDO-IMPORTANCE:1
END:VEVENT
END:VCALENDAR
