BEGIN:VCALENDAR
PRODID:-//gdesolutions.com//MV Framework 1.0.0.1607 Calendar//EN
VERSION:2.0
METHOD:PUBLISH
CALSCALE:GREGORIAN
BEGIN:VEVENT
UID:gafc7@games.golnetwork.com
LOCATION:Central Tech - Field 2
GEO:43.6637272;-79.4087613
CREATED:20170303T202447Z
DTSTART:20170502T010000Z
DTEND:20170502T020000Z
DTSTAMP:20260420T092026Z
SUMMARY:Hooligans vs. Features United
DESCRIPTION:Features United vs. HooligansPlus d'info : #322
X-ALT-DESC;FMTTYPE=text/html:<!DOCTYPE HTML PUBLIC "-//W3C//DTD HTML 3.2//E
	N">\n<HTML>\n<HEAD>\n<TITLE></TITLE>\n</HEAD>\n<BODY>\n<h3>Features United 
	vs. Hooligans</h3>Plus d'info : <a href="https://www.golnetwork.com/game/v/
	103049/">#322</a>\n\n</BODY>\n</HTML>
STATUS:CONFIRMED
CLASS:PUBLIC
URL:https://www.golnetwork.com/game/v/103049/
X-MICROSOFT-CDO-BUSYSTATUS:BUSY
X-MICROSOFT-CDO-IMPORTANCE:1
END:VEVENT
BEGIN:VEVENT
UID:gafbq@games.golnetwork.com
LOCATION:Central Tech - Field 2
GEO:43.6637272;-79.4087613
CREATED:20170303T202412Z
DTSTART:20170425T020000Z
DTEND:20170425T030000Z
DTSTAMP:20260420T092026Z
SUMMARY:Axonometrics vs. Hooligans
DESCRIPTION:Hooligans vs. AxonometricsPlus d'info : #297
X-ALT-DESC;FMTTYPE=text/html:<!DOCTYPE HTML PUBLIC "-//W3C//DTD HTML 3.2//E
	N">\n<HTML>\n<HEAD>\n<TITLE></TITLE>\n</HEAD>\n<BODY>\n<h3>Hooligans vs. Ax
	onometrics</h3>Plus d'info : <a href="https://www.golnetwork.com/game/v/103
	045/">#297</a>\n\n</BODY>\n</HTML>
STATUS:CONFIRMED
CLASS:PUBLIC
URL:https://www.golnetwork.com/game/v/103045/
X-MICROSOFT-CDO-BUSYSTATUS:BUSY
X-MICROSOFT-CDO-IMPORTANCE:1
END:VEVENT
BEGIN:VEVENT
UID:gag60@games.golnetwork.com
LOCATION:Central Tech - Field 2
GEO:43.6637272;-79.4087613
CREATED:20170309T015506Z
DTSTART:20170418T000000Z
DTEND:20170418T010000Z
DTSTAMP:20260420T092026Z
SUMMARY:Hooligans vs. Axonometrics
DESCRIPTION:Axonometrics vs. HooligansPlus d'info : #251
X-ALT-DESC;FMTTYPE=text/html:<!DOCTYPE HTML PUBLIC "-//W3C//DTD HTML 3.2//E
	N">\n<HTML>\n<HEAD>\n<TITLE></TITLE>\n</HEAD>\n<BODY>\n<h3>Axonometrics vs.
	 Hooligans</h3>Plus d'info : <a href="https://www.golnetwork.com/game/v/103
	329/">#251</a>\n\n</BODY>\n</HTML>
STATUS:CONFIRMED
CLASS:PUBLIC
URL:https://www.golnetwork.com/game/v/103329/
X-MICROSOFT-CDO-BUSYSTATUS:BUSY
X-MICROSOFT-CDO-IMPORTANCE:1
END:VEVENT
BEGIN:VEVENT
UID:gafbe@games.golnetwork.com
LOCATION:Central Tech - Field 2
GEO:43.6637272;-79.4087613
CREATED:20170303T202117Z
DTSTART:20170411T000000Z
DTEND:20170411T010000Z
DTSTAMP:20260420T092026Z
SUMMARY:The D vs. Hooligans
DESCRIPTION:Hooligans vs. The DPlus d'info : #216
X-ALT-DESC;FMTTYPE=text/html:<!DOCTYPE HTML PUBLIC "-//W3C//DTD HTML 3.2//E
	N">\n<HTML>\n<HEAD>\n<TITLE></TITLE>\n</HEAD>\n<BODY>\n<h3>Hooligans vs. Th
	e D</h3>Plus d'info : <a href="https://www.golnetwork.com/game/v/103039/">#
	216</a>\n\n</BODY>\n</HTML>
STATUS:CONFIRMED
CLASS:PUBLIC
URL:https://www.golnetwork.com/game/v/103039/
X-MICROSOFT-CDO-BUSYSTATUS:BUSY
X-MICROSOFT-CDO-IMPORTANCE:1
END:VEVENT
BEGIN:VEVENT
UID:gafb4@games.golnetwork.com
LOCATION:Central Tech - Field 2
GEO:43.6637272;-79.4087613
CREATED:20170303T202022Z
DTSTART:20170404T020000Z
DTEND:20170404T030000Z
DTSTAMP:20260420T092026Z
SUMMARY:Hooligans vs. I am Batman FC
DESCRIPTION:I am Batman FC vs. HooligansPlus d'info : #176
X-ALT-DESC;FMTTYPE=text/html:<!DOCTYPE HTML PUBLIC "-//W3C//DTD HTML 3.2//E
	N">\n<HTML>\n<HEAD>\n<TITLE></TITLE>\n</HEAD>\n<BODY>\n<h3>I am Batman FC v
	s. Hooligans</h3>Plus d'info : <a href="https://www.golnetwork.com/game/v/1
	03034/">#176</a>\n\n</BODY>\n</HTML>
STATUS:CONFIRMED
CLASS:PUBLIC
URL:https://www.golnetwork.com/game/v/103034/
X-MICROSOFT-CDO-BUSYSTATUS:BUSY
X-MICROSOFT-CDO-IMPORTANCE:1
END:VEVENT
BEGIN:VEVENT
UID:gafb2@games.golnetwork.com
LOCATION:Central Tech - Field 2
GEO:43.6637272;-79.4087613
CREATED:20170303T202006Z
DTSTART:20170328T030000Z
DTEND:20170328T040000Z
DTSTAMP:20260420T092026Z
SUMMARY:Hooligans vs. Gunners
DESCRIPTION:Gunners vs. HooligansPlus d'info : #135
X-ALT-DESC;FMTTYPE=text/html:<!DOCTYPE HTML PUBLIC "-//W3C//DTD HTML 3.2//E
	N">\n<HTML>\n<HEAD>\n<TITLE></TITLE>\n</HEAD>\n<BODY>\n<h3>Gunners vs. Hool
	igans</h3>Plus d'info : <a href="https://www.golnetwork.com/game/v/103033/"
	>#135</a>\n\n</BODY>\n</HTML>
STATUS:CONFIRMED
CLASS:PUBLIC
URL:https://www.golnetwork.com/game/v/103033/
X-MICROSOFT-CDO-BUSYSTATUS:BUSY
X-MICROSOFT-CDO-IMPORTANCE:1
END:VEVENT
BEGIN:VEVENT
UID:gafal@games.golnetwork.com
LOCATION:Central Tech - Field 2
GEO:43.6637272;-79.4087613
CREATED:20170303T201922Z
DTSTART:20170321T020000Z
DTEND:20170321T030000Z
DTSTAMP:20260420T092026Z
SUMMARY:Features United vs. Hooligans
DESCRIPTION:Hooligans vs. Features UnitedPlus d'info : #89
X-ALT-DESC;FMTTYPE=text/html:<!DOCTYPE HTML PUBLIC "-//W3C//DTD HTML 3.2//E
	N">\n<HTML>\n<HEAD>\n<TITLE></TITLE>\n</HEAD>\n<BODY>\n<h3>Hooligans vs. Fe
	atures United</h3>Plus d'info : <a href="https://www.golnetwork.com/game/v/
	103029/">#89</a>\n\n</BODY>\n</HTML>
STATUS:CONFIRMED
CLASS:PUBLIC
URL:https://www.golnetwork.com/game/v/103029/
X-MICROSOFT-CDO-BUSYSTATUS:BUSY
X-MICROSOFT-CDO-IMPORTANCE:1
END:VEVENT
BEGIN:VEVENT
UID:gaf78@games.golnetwork.com
LOCATION:Central Tech - Field 2
GEO:43.6637272;-79.4087613
CREATED:20170302T174051Z
DTSTART:20170307T020000Z
DTEND:20170307T030000Z
DTSTAMP:20260420T092026Z
SUMMARY:The PKs vs. Hooligans
DESCRIPTION:Hooligans vs. The PKsPlus d'info : #7
X-ALT-DESC;FMTTYPE=text/html:<!DOCTYPE HTML PUBLIC "-//W3C//DTD HTML 3.2//E
	N">\n<HTML>\n<HEAD>\n<TITLE></TITLE>\n</HEAD>\n<BODY>\n<h3>Hooligans vs. Th
	e PKs</h3>Plus d'info : <a href="https://www.golnetwork.com/game/v/102982/"
	>#7</a>\n\n</BODY>\n</HTML>
STATUS:CONFIRMED
CLASS:PUBLIC
URL:https://www.golnetwork.com/game/v/102982/
X-MICROSOFT-CDO-BUSYSTATUS:BUSY
X-MICROSOFT-CDO-IMPORTANCE:1
END:VEVENT
BEGIN:VEVENT
UID:gaf76@games.golnetwork.com
LOCATION:Central Tech - Field 2
GEO:43.6637272;-79.4087613
CREATED:20170302T174042Z
DTSTART:20170307T010000Z
DTEND:20170307T020000Z
DTSTAMP:20260420T092026Z
SUMMARY:Kickballz vs. Hooligans
DESCRIPTION:Hooligans vs. KickballzPlus d'info : #5
X-ALT-DESC;FMTTYPE=text/html:<!DOCTYPE HTML PUBLIC "-//W3C//DTD HTML 3.2//E
	N">\n<HTML>\n<HEAD>\n<TITLE></TITLE>\n</HEAD>\n<BODY>\n<h3>Hooligans vs. Ki
	ckballz</h3>Plus d'info : <a href="https://www.golnetwork.com/game/v/102981
	/">#5</a>\n\n</BODY>\n</HTML>
STATUS:CONFIRMED
CLASS:PUBLIC
URL:https://www.golnetwork.com/game/v/102981/
X-MICROSOFT-CDO-BUSYSTATUS:BUSY
X-MICROSOFT-CDO-IMPORTANCE:1
END:VEVENT
END:VCALENDAR
