BEGIN:VCALENDAR
PRODID:-//gdesolutions.com//MV Framework 1.0.0.1607 Calendar//EN
VERSION:2.0
METHOD:PUBLISH
CALSCALE:GREGORIAN
BEGIN:VEVENT
UID:gaf23@games.golnetwork.com
LOCATION:Central Tech - Field 4
CREATED:20170227T192850Z
DTSTART:20170512T010000Z
DTEND:20170512T020000Z
DTSTAMP:20260422T023807Z
SUMMARY:RUN DFC vs. TRUEBADOURS
DESCRIPTION:TRUEBADOURS vs. RUN DFCPlus d'info : #354
X-ALT-DESC;FMTTYPE=text/html:<!DOCTYPE HTML PUBLIC "-//W3C//DTD HTML 3.2//E
	N">\n<HTML>\n<HEAD>\n<TITLE></TITLE>\n</HEAD>\n<BODY>\n<h3>TRUEBADOURS vs. 
	RUN DFC</h3>Plus d'info : <a href="https://www.golnetwork.com/game/v/102912
	/">#354</a>\n\n</BODY>\n</HTML>
STATUS:CONFIRMED
CLASS:PUBLIC
URL:https://www.golnetwork.com/game/v/102912/
X-MICROSOFT-CDO-BUSYSTATUS:BUSY
X-MICROSOFT-CDO-IMPORTANCE:1
END:VEVENT
BEGIN:VEVENT
UID:gaf1o@games.golnetwork.com
LOCATION:Central Tech - Field 3
CREATED:20170227T192838Z
DTSTART:20170505T010000Z
DTEND:20170505T020000Z
DTSTAMP:20260422T023807Z
SUMMARY:XTSC Stars vs. RUN DFC
DESCRIPTION:RUN DFC vs. XTSC StarsPlus d'info : #332
X-ALT-DESC;FMTTYPE=text/html:<!DOCTYPE HTML PUBLIC "-//W3C//DTD HTML 3.2//E
	N">\n<HTML>\n<HEAD>\n<TITLE></TITLE>\n</HEAD>\n<BODY>\n<h3>RUN DFC vs. XTSC
	 Stars</h3>Plus d'info : <a href="https://www.golnetwork.com/game/v/102909/
	">#332</a>\n\n</BODY>\n</HTML>
STATUS:CONFIRMED
CLASS:PUBLIC
URL:https://www.golnetwork.com/game/v/102909/
X-MICROSOFT-CDO-BUSYSTATUS:BUSY
X-MICROSOFT-CDO-IMPORTANCE:1
END:VEVENT
BEGIN:VEVENT
UID:gaf1m@games.golnetwork.com
LOCATION:Central Tech - Field 1
GEO:43.6637272;-79.4087613
CREATED:20170227T192801Z
DTSTART:20170421T030000Z
DTEND:20170421T040000Z
DTSTAMP:20260422T023807Z
SUMMARY:Drinkalots FC vs. RUN DFC
DESCRIPTION:RUN DFC vs. Drinkalots FCPlus d'info : #281
X-ALT-DESC;FMTTYPE=text/html:<!DOCTYPE HTML PUBLIC "-//W3C//DTD HTML 3.2//E
	N">\n<HTML>\n<HEAD>\n<TITLE></TITLE>\n</HEAD>\n<BODY>\n<h3>RUN DFC vs. Drin
	kalots FC</h3>Plus d'info : <a href="https://www.golnetwork.com/game/v/1029
	08/">#281</a>\n\n</BODY>\n</HTML>
STATUS:CONFIRMED
CLASS:PUBLIC
URL:https://www.golnetwork.com/game/v/102908/
X-MICROSOFT-CDO-BUSYSTATUS:BUSY
X-MICROSOFT-CDO-IMPORTANCE:1
END:VEVENT
BEGIN:VEVENT
UID:gaf1a@games.golnetwork.com
LOCATION:Central Tech - Field 3
CREATED:20170227T192412Z
DTSTART:20170414T010000Z
DTEND:20170414T020000Z
DTSTAMP:20260422T023807Z
SUMMARY:RUN DFC vs. All City FC
DESCRIPTION:All City FC vs. RUN DFCPlus d'info : #243
X-ALT-DESC;FMTTYPE=text/html:<!DOCTYPE HTML PUBLIC "-//W3C//DTD HTML 3.2//E
	N">\n<HTML>\n<HEAD>\n<TITLE></TITLE>\n</HEAD>\n<BODY>\n<h3>All City FC vs. 
	RUN DFC</h3>Plus d'info : <a href="https://www.golnetwork.com/game/v/102902
	/">#243</a>\n\n</BODY>\n</HTML>
STATUS:CONFIRMED
CLASS:PUBLIC
URL:https://www.golnetwork.com/game/v/102902/
X-MICROSOFT-CDO-BUSYSTATUS:BUSY
X-MICROSOFT-CDO-IMPORTANCE:1
END:VEVENT
BEGIN:VEVENT
UID:gaf10@games.golnetwork.com
LOCATION:Central Tech - Field 3
CREATED:20170227T192255Z
DTSTART:20170407T020000Z
DTEND:20170407T030000Z
DTSTAMP:20260422T023807Z
SUMMARY:RUN DFC vs. TRUEBADOURS
DESCRIPTION:TRUEBADOURS vs. RUN DFCPlus d'info : #203
X-ALT-DESC;FMTTYPE=text/html:<!DOCTYPE HTML PUBLIC "-//W3C//DTD HTML 3.2//E
	N">\n<HTML>\n<HEAD>\n<TITLE></TITLE>\n</HEAD>\n<BODY>\n<h3>TRUEBADOURS vs. 
	RUN DFC</h3>Plus d'info : <a href="https://www.golnetwork.com/game/v/102897
	/">#203</a>\n\n</BODY>\n</HTML>
STATUS:CONFIRMED
CLASS:PUBLIC
URL:https://www.golnetwork.com/game/v/102897/
X-MICROSOFT-CDO-BUSYSTATUS:BUSY
X-MICROSOFT-CDO-IMPORTANCE:1
END:VEVENT
BEGIN:VEVENT
UID:gaf0l@games.golnetwork.com
LOCATION:Central Tech - Field 3
CREATED:20170227T192215Z
DTSTART:20170331T010000Z
DTEND:20170331T020000Z
DTSTAMP:20260422T023807Z
SUMMARY:Bonafide FC vs. RUN DFC
DESCRIPTION:RUN DFC vs. Bonafide FCPlus d'info : #157
X-ALT-DESC;FMTTYPE=text/html:<!DOCTYPE HTML PUBLIC "-//W3C//DTD HTML 3.2//E
	N">\n<HTML>\n<HEAD>\n<TITLE></TITLE>\n</HEAD>\n<BODY>\n<h3>RUN DFC vs. Bona
	fide FC</h3>Plus d'info : <a href="https://www.golnetwork.com/game/v/102894
	/">#157</a>\n\n</BODY>\n</HTML>
STATUS:CONFIRMED
CLASS:PUBLIC
URL:https://www.golnetwork.com/game/v/102894/
X-MICROSOFT-CDO-BUSYSTATUS:BUSY
X-MICROSOFT-CDO-IMPORTANCE:1
END:VEVENT
BEGIN:VEVENT
UID:gaf0h@games.golnetwork.com
LOCATION:Central Tech - Field 2
GEO:43.6637272;-79.4087613
CREATED:20170227T192105Z
DTSTART:20170324T030000Z
DTEND:20170324T040000Z
DTSTAMP:20260422T023807Z
SUMMARY:XTSC Stars vs. RUN DFC
DESCRIPTION:RUN DFC vs. XTSC StarsPlus d'info : #118
X-ALT-DESC;FMTTYPE=text/html:<!DOCTYPE HTML PUBLIC "-//W3C//DTD HTML 3.2//E
	N">\n<HTML>\n<HEAD>\n<TITLE></TITLE>\n</HEAD>\n<BODY>\n<h3>RUN DFC vs. XTSC
	 Stars</h3>Plus d'info : <a href="https://www.golnetwork.com/game/v/102892/
	">#118</a>\n\n</BODY>\n</HTML>
STATUS:CONFIRMED
CLASS:PUBLIC
URL:https://www.golnetwork.com/game/v/102892/
X-MICROSOFT-CDO-BUSYSTATUS:BUSY
X-MICROSOFT-CDO-IMPORTANCE:1
END:VEVENT
BEGIN:VEVENT
UID:gaf03@games.golnetwork.com
LOCATION:Central Tech - Field 3
CREATED:20170227T191946Z
DTSTART:20170317T000000Z
DTEND:20170317T010000Z
DTSTAMP:20260422T023807Z
SUMMARY:RUN DFC vs. Papa Barone & the Good Time Gang
DESCRIPTION:Papa Barone & the Good Time Gang vs. RUN DFCPlus d'info : #68
X-ALT-DESC;FMTTYPE=text/html:<!DOCTYPE HTML PUBLIC "-//W3C//DTD HTML 3.2//E
	N">\n<HTML>\n<HEAD>\n<TITLE></TITLE>\n</HEAD>\n<BODY>\n<h3>Papa Barone & th
	e Good Time Gang vs. RUN DFC</h3>Plus d'info : <a href="https://www.golnetw
	ork.com/game/v/102885/">#68</a>\n\n</BODY>\n</HTML>
STATUS:CONFIRMED
CLASS:PUBLIC
URL:https://www.golnetwork.com/game/v/102885/
X-MICROSOFT-CDO-BUSYSTATUS:BUSY
X-MICROSOFT-CDO-IMPORTANCE:1
END:VEVENT
BEGIN:VEVENT
UID:gaf01@games.golnetwork.com
LOCATION:Central Tech - Field 1
GEO:43.6637272;-79.4087613
CREATED:20170227T191904Z
DTSTART:20170310T030000Z
DTEND:20170310T040000Z
DTSTAMP:20260422T023807Z
SUMMARY:RUN DFC vs. Superbad FC
DESCRIPTION:Superbad FC vs. RUN DFCPlus d'info : #32
X-ALT-DESC;FMTTYPE=text/html:<!DOCTYPE HTML PUBLIC "-//W3C//DTD HTML 3.2//E
	N">\n<HTML>\n<HEAD>\n<TITLE></TITLE>\n</HEAD>\n<BODY>\n<h3>Superbad FC vs. 
	RUN DFC</h3>Plus d'info : <a href="https://www.golnetwork.com/game/v/102884
	/">#32</a>\n\n</BODY>\n</HTML>
STATUS:CONFIRMED
CLASS:PUBLIC
URL:https://www.golnetwork.com/game/v/102884/
X-MICROSOFT-CDO-BUSYSTATUS:BUSY
X-MICROSOFT-CDO-IMPORTANCE:1
END:VEVENT
END:VCALENDAR
