BEGIN:VCALENDAR
PRODID:-//gdesolutions.com//MV Framework 1.0.0.1607 Calendar//EN
VERSION:2.0
METHOD:PUBLISH
CALSCALE:GREGORIAN
BEGIN:VEVENT
UID:g9a1q@games.golnetwork.com
LOCATION:McNicoll Park
CREATED:20160808T153106Z
DTSTART:20161030T210000Z
DTEND:20161030T215500Z
DTSTAMP:20260420T060626Z
SUMMARY:d1 mob vs. Danforth Balkans FC
DESCRIPTION:Danforth Balkans FC vs. d1 mobPlus d'info : #716
X-ALT-DESC;FMTTYPE=text/html:<!DOCTYPE HTML PUBLIC "-//W3C//DTD HTML 3.2//E
	N">\n<HTML>\n<HEAD>\n<TITLE></TITLE>\n</HEAD>\n<BODY>\n<h3>Danforth Balkans
	 FC vs. d1 mob</h3>Plus d'info : <a href="https://www.golnetwork.com/game/v
	/91246/">#716</a>\n\n</BODY>\n</HTML>
STATUS:CONFIRMED
CLASS:PUBLIC
URL:https://www.golnetwork.com/game/v/91246/
X-MICROSOFT-CDO-BUSYSTATUS:BUSY
X-MICROSOFT-CDO-IMPORTANCE:1
END:VEVENT
BEGIN:VEVENT
UID:g9b4e@games.golnetwork.com
LOCATION:McNicoll Park
CREATED:20160824T154339Z
DTSTART:20161023T220000Z
DTEND:20161023T225500Z
DTSTAMP:20260420T060626Z
SUMMARY:Formerly in Shape FC vs. d1 mob
DESCRIPTION:d1 mob vs. Formerly in Shape FCPlus d'info : #714
X-ALT-DESC;FMTTYPE=text/html:<!DOCTYPE HTML PUBLIC "-//W3C//DTD HTML 3.2//E
	N">\n<HTML>\n<HEAD>\n<TITLE></TITLE>\n</HEAD>\n<BODY>\n<h3>d1 mob vs. Forme
	rly in Shape FC</h3>Plus d'info : <a href="https://www.golnetwork.com/game/
	v/91645/">#714</a>\n\n</BODY>\n</HTML>
STATUS:CONFIRMED
CLASS:PUBLIC
URL:https://www.golnetwork.com/game/v/91645/
X-MICROSOFT-CDO-BUSYSTATUS:BUSY
X-MICROSOFT-CDO-IMPORTANCE:1
END:VEVENT
BEGIN:VEVENT
UID:g9b4c@games.golnetwork.com
LOCATION:McNicoll Park
CREATED:20160824T154336Z
DTSTART:20161023T210000Z
DTEND:20161023T215500Z
DTSTAMP:20260420T060626Z
SUMMARY:1860 Degen vs. d1 mob
DESCRIPTION:d1 mob vs. 1860 DegenPlus d'info : #712
X-ALT-DESC;FMTTYPE=text/html:<!DOCTYPE HTML PUBLIC "-//W3C//DTD HTML 3.2//E
	N">\n<HTML>\n<HEAD>\n<TITLE></TITLE>\n</HEAD>\n<BODY>\n<h3>d1 mob vs. 1860 
	Degen</h3>Plus d'info : <a href="https://www.golnetwork.com/game/v/91644/">
	#712</a>\n\n</BODY>\n</HTML>
STATUS:CONFIRMED
CLASS:PUBLIC
URL:https://www.golnetwork.com/game/v/91644/
X-MICROSOFT-CDO-BUSYSTATUS:BUSY
X-MICROSOFT-CDO-IMPORTANCE:1
END:VEVENT
BEGIN:VEVENT
UID:g9a1c@games.golnetwork.com
LOCATION:McNicoll Park
CREATED:20160808T152907Z
DTSTART:20161016T210000Z
DTEND:20161016T215500Z
DTSTAMP:20260420T060626Z
SUMMARY:d1 mob vs. Danforth Balkans FC
DESCRIPTION:Danforth Balkans FC vs. d1 mobPlus d'info : #690
X-ALT-DESC;FMTTYPE=text/html:<!DOCTYPE HTML PUBLIC "-//W3C//DTD HTML 3.2//E
	N">\n<HTML>\n<HEAD>\n<TITLE></TITLE>\n</HEAD>\n<BODY>\n<h3>Danforth Balkans
	 FC vs. d1 mob</h3>Plus d'info : <a href="https://www.golnetwork.com/game/v
	/91239/">#690</a>\n\n</BODY>\n</HTML>
STATUS:CONFIRMED
CLASS:PUBLIC
URL:https://www.golnetwork.com/game/v/91239/
X-MICROSOFT-CDO-BUSYSTATUS:BUSY
X-MICROSOFT-CDO-IMPORTANCE:1
END:VEVENT
BEGIN:VEVENT
UID:g9b42@games.golnetwork.com
LOCATION:McNicoll Park
CREATED:20160824T154041Z
DTSTART:20161002T210000Z
DTEND:20161002T215500Z
DTSTAMP:20260420T060626Z
SUMMARY:The Onetouchables vs. d1 mob
DESCRIPTION:d1 mob vs. The OnetouchablesPlus d'info : #619
X-ALT-DESC;FMTTYPE=text/html:<!DOCTYPE HTML PUBLIC "-//W3C//DTD HTML 3.2//E
	N">\n<HTML>\n<HEAD>\n<TITLE></TITLE>\n</HEAD>\n<BODY>\n<h3>d1 mob vs. The O
	netouchables</h3>Plus d'info : <a href="https://www.golnetwork.com/game/v/9
	1639/">#619</a>\n\n</BODY>\n</HTML>
STATUS:CONFIRMED
CLASS:PUBLIC
URL:https://www.golnetwork.com/game/v/91639/
X-MICROSOFT-CDO-BUSYSTATUS:BUSY
X-MICROSOFT-CDO-IMPORTANCE:1
END:VEVENT
BEGIN:VEVENT
UID:g9b3p@games.golnetwork.com
LOCATION:McNicoll Park
CREATED:20160824T154033Z
DTSTART:20160925T230000Z
DTEND:20160925T235500Z
DTSTAMP:20260420T060626Z
SUMMARY:Formerly in Shape FC vs. d1 mob
DESCRIPTION:d1 mob vs. Formerly in Shape FCPlus d'info : #576
X-ALT-DESC;FMTTYPE=text/html:<!DOCTYPE HTML PUBLIC "-//W3C//DTD HTML 3.2//E
	N">\n<HTML>\n<HEAD>\n<TITLE></TITLE>\n</HEAD>\n<BODY>\n<h3>d1 mob vs. Forme
	rly in Shape FC</h3>Plus d'info : <a href="https://www.golnetwork.com/game/
	v/91637/">#576</a>\n\n</BODY>\n</HTML>
STATUS:CONFIRMED
CLASS:PUBLIC
URL:https://www.golnetwork.com/game/v/91637/
X-MICROSOFT-CDO-BUSYSTATUS:BUSY
X-MICROSOFT-CDO-IMPORTANCE:1
END:VEVENT
BEGIN:VEVENT
UID:g9b3l@games.golnetwork.com
LOCATION:McNicoll Park
CREATED:20160824T154025Z
DTSTART:20160918T210000Z
DTEND:20160918T215500Z
DTSTAMP:20260420T060626Z
SUMMARY:d1 mob vs. 1860 Degen
DESCRIPTION:1860 Degen vs. d1 mobPlus d'info : #509
X-ALT-DESC;FMTTYPE=text/html:<!DOCTYPE HTML PUBLIC "-//W3C//DTD HTML 3.2//E
	N">\n<HTML>\n<HEAD>\n<TITLE></TITLE>\n</HEAD>\n<BODY>\n<h3>1860 Degen vs. d
	1 mob</h3>Plus d'info : <a href="https://www.golnetwork.com/game/v/91635/">
	#509</a>\n\n</BODY>\n</HTML>
STATUS:CONFIRMED
CLASS:PUBLIC
URL:https://www.golnetwork.com/game/v/91635/
X-MICROSOFT-CDO-BUSYSTATUS:BUSY
X-MICROSOFT-CDO-IMPORTANCE:1
END:VEVENT
BEGIN:VEVENT
UID:g9b3j@games.golnetwork.com
LOCATION:McNicoll Park
CREATED:20160824T154014Z
DTSTART:20160828T210000Z
DTEND:20160828T215500Z
DTSTAMP:20260420T060626Z
SUMMARY:d1 mob vs. Danforth Balkans FC
DESCRIPTION:Danforth Balkans FC vs. d1 mobPlus d'info : #311
X-ALT-DESC;FMTTYPE=text/html:<!DOCTYPE HTML PUBLIC "-//W3C//DTD HTML 3.2//E
	N">\n<HTML>\n<HEAD>\n<TITLE></TITLE>\n</HEAD>\n<BODY>\n<h3>Danforth Balkans
	 FC vs. d1 mob</h3>Plus d'info : <a href="https://www.golnetwork.com/game/v
	/91634/">#311</a>\n\n</BODY>\n</HTML>
STATUS:CONFIRMED
CLASS:PUBLIC
URL:https://www.golnetwork.com/game/v/91634/
X-MICROSOFT-CDO-BUSYSTATUS:BUSY
X-MICROSOFT-CDO-IMPORTANCE:1
END:VEVENT
BEGIN:VEVENT
UID:g9a07@games.golnetwork.com
LOCATION:McNicoll Park
CREATED:20160808T152606Z
DTSTART:20160821T220000Z
DTEND:20160821T225500Z
DTSTAMP:20260420T060626Z
SUMMARY:d1 mob vs. Brick Squad
DESCRIPTION:Brick Squad vs. d1 mobPlus d'info : #232
X-ALT-DESC;FMTTYPE=text/html:<!DOCTYPE HTML PUBLIC "-//W3C//DTD HTML 3.2//E
	N">\n<HTML>\n<HEAD>\n<TITLE></TITLE>\n</HEAD>\n<BODY>\n<h3>Brick Squad vs. 
	d1 mob</h3>Plus d'info : <a href="https://www.golnetwork.com/game/v/91223/"
	>#232</a>\n\n</BODY>\n</HTML>
STATUS:CONFIRMED
CLASS:PUBLIC
URL:https://www.golnetwork.com/game/v/91223/
X-MICROSOFT-CDO-BUSYSTATUS:BUSY
X-MICROSOFT-CDO-IMPORTANCE:1
END:VEVENT
BEGIN:VEVENT
UID:g9a01@games.golnetwork.com
LOCATION:McNicoll Park
CREATED:20160808T152534Z
DTSTART:20160814T220000Z
DTEND:20160814T225500Z
DTSTAMP:20260420T060626Z
SUMMARY:FO' SHIZZLE FC vs. d1 mob
DESCRIPTION:d1 mob vs. FO' SHIZZLE FCPlus d'info : #163
X-ALT-DESC;FMTTYPE=text/html:<!DOCTYPE HTML PUBLIC "-//W3C//DTD HTML 3.2//E
	N">\n<HTML>\n<HEAD>\n<TITLE></TITLE>\n</HEAD>\n<BODY>\n<h3>d1 mob vs. FO' S
	HIZZLE FC</h3>Plus d'info : <a href="https://www.golnetwork.com/game/v/9122
	0/">#163</a>\n\n</BODY>\n</HTML>
STATUS:CONFIRMED
CLASS:PUBLIC
URL:https://www.golnetwork.com/game/v/91220/
X-MICROSOFT-CDO-BUSYSTATUS:BUSY
X-MICROSOFT-CDO-IMPORTANCE:1
END:VEVENT
END:VCALENDAR
